BEGIN:VCALENDAR
VERSION:2.0
PRODID:-//Gratis-in-Berlin//NONSGML kigkonsult.se iCalcreator 2.14//
METHOD:PUBLISH
X-WR-CALNAME:Gratis-in-Berlin Tip Kalender
X-WR-CALDESC:Erhalte Gratis-in-Berlin Tips in deinem Kalender
BEGIN:VEVENT
UID:20260419T173140UTC-8299MVw6fu@Gratis-in-Berlin
DTSTAMP:20260419T173140Z
DESCRIPTION:Im Rahmen der Europawochen laden die Bezirksämter Friedrichshain-
 Kreuzberg und Neukölln dazu ein\, anhand des Dokumentarfilms die Folgen der e
 uropäischen Zuwanderungspolitik und die Rolle Deutschlands zu beleuchten.Die
  Dokumentation begleitet eine Rettungsmission im Mittelmeer\, zeigt die ka
 tastrophalen Zustände in Lagern für Geflüchtete und gibt Menschen eine Stimme\, die de
 n lebensgefährlichen Weg nach Europa überlebt haben. Gleichzeitig blickt der Film
  auf die politische und gesellschaftliche Entwicklung in Deutschland: Ein 
 erstarkender Rechtspopulismus prägt den Diskurs. Flucht und Migration werden
  zunehmend kriminalisiert\, und humanitäre Hilfe gerät unter Druck.Im Anschlus
 s an den Film diskutieren wir mit einem der beiden Filmemacher\, Max Ahren
 s.Reservierung und Tickets:&nbsp\;Kein Land für Niemand - öffentliches Filmscreeni
 ng und Gespräch mit Filmemacher | Moviemento Kino Berlin | kinoheld.de\n\nVi
 el Spass wünscht Gratis-in-Berlin\n\nLink zum Tip: \nZu den Gratis-in-Berlin An
 geboten: http://www.gratis-in-berlin.de\n
DTSTART;VALUE=DATE:20260527
DTEND;VALUE=DATE:20260528
SUMMARY:Kein Land für Niemand - öffentliches Filmscreening und Gespräch mit Max Ahren
 s
END:VEVENT
END:VCALENDAR
