BEGIN:VCALENDAR
VERSION:2.0
PRODID:-//Gratis-in-Berlin//NONSGML kigkonsult.se iCalcreator 2.14//
METHOD:PUBLISH
X-WR-CALNAME:Gratis-in-Berlin Tip Kalender
X-WR-CALDESC:Erhalte Gratis-in-Berlin Tips in deinem Kalender
BEGIN:VEVENT
UID:20260419T122216UTC-2819x8WvNz@Gratis-in-Berlin
DTSTAMP:20260419T122216Z
DESCRIPTION:Erleben Sie die Filmpremiere von 'Mein Himmel brennt' ? einem 9
 -episodigen Werk\, das markante Szenen aus Heinrich von der Haars Roman ze
 igt.Tauchen Sie ein in das Münsterland der 1950er Jahre\, das zwischen landscha
 ftlicher Schönheit und menschlicher Gefühlskälte ein eindrucksvolles Sittengemälde e
 ntfaltet.Die Veranstaltung kombiniert eine exklusive Filmvorführung mit einem G
 espräch mit dem Regisseur Thomas Frick und dem Autor Heinrich von der Haar\,
  der Passagen aus seinem Werk persönlich vorträgt. · Datum &amp\; Zeit: 9. Mai 2
 026\, 19 Uhr (Einlass 18:30) · Ort: Heinrich von der Haar Literaturstiftung
 \, Zikadenweg 24\, 14055 Berlin · Eintritt: frei\, aber begrenzte Plätze ? bi
 tte melden Sie sich unter Literaturstiftung@heinrichvonderHaar.de anGenieße
 n Sie einen abwechslungsreichen Abend voller Literatur\, Filmkunst und tie
 fgründiger Gespräche. Sichern Sie sich jetzt Ihren Platz und lassen Sie sich von 
 dieser berührenden Geschichte über Kindheit\, Traditionen und Tabus begeistern!www.H
 einrichvonderHaar.de\n\nViel Spass wünscht Gratis-in-Berlin\n\nLink zum Tip: \n
 Zu den Gratis-in-Berlin Angeboten: http://www.gratis-in-berlin.de\n
DTSTART;VALUE=DATE:20260509
DTEND;VALUE=DATE:20260510
SUMMARY:Filmpremiere: Mein Himmel brennt - in 9 Episoden mit Gespräch
END:VEVENT
END:VCALENDAR
