BEGIN:VCALENDAR
VERSION:2.0
PRODID:-//Gratis-in-Berlin//NONSGML kigkonsult.se iCalcreator 2.14//
METHOD:PUBLISH
X-WR-CALNAME:Gratis-in-Berlin Tip Kalender
X-WR-CALDESC:Erhalte Gratis-in-Berlin Tips in deinem Kalender
BEGIN:VEVENT
UID:20260423T131708UTC-9514daguNl@Gratis-in-Berlin
DTSTAMP:20260423T131708Z
DESCRIPTION:- präsentiert vom Zapa Café -18:00 Küfa\, 19:00 FilmVon Mexiko über Galizien 
 bis Lützerath ? überall teilen wir den Traum einer besseren\, solidarischeren Welt. 
 Der Dokumentarfilm der mexikanischen Regisseurin Valentina Leduc porträtiert
  widerständige Communities\, die für Land\, Wasser und gegen die vom Kapitalismus
  getriebene Zerstörung ihrer Lebensgrundlage kämpfen. Wie und warum die Träume un
 d Kämpfe der Zapatista sowie anderer indigener Dorfgemeinschaften in Puebla 
 mit den Kämpfen gegen Eukalyptus Monokultur in Galizien oder dem Widerstand 
 im rheinischen Braunkohlerevier solidarisch verbunden sind\, erfahrt ihr i
 m Film! Seid dabei! Originalfassung (Spanisch\, Tzeltal\, English\, Deutsc
 h\, Galizisch) mit englischen Untertiteln\; anschließendes Filmgespräch mit d
 er Regisseurin Valentina auf Englisch.\nMit Möglichkeit einer Flüsterübersetzung a
 uf Spanisch und Deutsch. Trailer: https://vimeo.com/1071265572 ***********
 ************************** Film screening &amp\; discussion: ?Los sueños que 
 compartimos?(The Dreams We Share) From Mexico to Galicia to Lützerath ? everywh
 ere we share the dream of a better\, more solidarity-based world. This doc
 umentary by Mexican director Valentina Leduc portrays communities in resis
 tance who are fighting for land and water and against the destruction of t
 heir livelihoods driven by capitalism. Find out in the film how and why th
 e dreams and struggles of the Zapatistas and other indigenous village comm
 unities in Puebla are interconnected with the struggles against eucalyptus
  monoculture in Galicia or the resistance of Lützerath in the Rhineland lignite
  mining area! Join us! Original version (Spanish\, Tzeltal\, English\, Ger
 man\, Galician) with English subtitles\, followed by a discussion with dir
 ector Valentina in English. We can translate into german and spanish. Trai
 ler: https://vimeo.com/1071265572 ************************************* Pr
 oyección y conversación sobre la película «Los sueños que compartimos» Desde México hasta
  Galicia\, pasando por Lützerath: en todas lugares rebeldes compartimos el sueño d
 e un mundo mejor y más solidario. El documental de la directora mexicana Val
 entina Leduc retrata comunidades en resistencia que luchan por la tierra y
  el agua\, y contra el despojo capitalista. En la película se explica cómo y po
 r qué los sueños y las luchas de los zapatistas y de otras comunidades indígenas 
 de Puebla están solidariamente relacionados con las luchas contra el monocul
 tivo de eucalipto en Galicia o con la resistencia en Hambi y Lützerath. ? Versi
 ón original (español\, tzeltal\, inglés\, alemán\, gallego) con subtítulos en inglés\, s
 eguida de un encuentro con la directora Valentina en inglés.\nHay la posibil
 idad de traducción a español. Tráiler de la película: https://vimeo.com/1071265572\n
 \n\nViel Spass wünscht Gratis-in-Berlin\n\nLink zum Tip: \nZu den Gratis-in-Ber
 lin Angeboten: http://www.gratis-in-berlin.de\n
DTSTART;VALUE=DATE:20260426
DTEND;VALUE=DATE:20260427
SUMMARY:'Die Träume\, die wir teilen' - Filmscreening & Filmgespräch im Regenbo
 genCafé
END:VEVENT
END:VCALENDAR
