BEGIN:VCALENDAR
VERSION:2.0
PRODID:-//Gratis-in-Berlin//NONSGML kigkonsult.se iCalcreator 2.14//
METHOD:PUBLISH
X-WR-CALNAME:Gratis-in-Berlin Tip Kalender
X-WR-CALDESC:Erhalte Gratis-in-Berlin Tips in deinem Kalender
BEGIN:VEVENT
UID:20260422T114304UTC-0265EObL1G@Gratis-in-Berlin
DTSTAMP:20260422T114304Z
DESCRIPTION:GUCKEN | WÜNSCHEN | TEILEN - Willkommen zu der ZLB - Filmreihe. 
 Wir zeigen populäre und weniger bekannte Kinofilme aus dem Bestand der Cinem
 athek. Sie entscheiden\, was wir als nächstes sehen.Wir zeigen den Publikums
 wunsch:Blow-UpRegie: Michelangelo Antonioni | Großbritannien/Italien | 1966
 Wir schauen Filme gemeinsam und tauschen uns über sie aus. In der Atmosphäre eine
 s öffentlichen Wohnzimmers zeigen wir populäre und weniger bekannte Kinofilme a
 us dem Bestand der Cinemathek. Dazu bringen wir eine Auswahl an Filmen mit
  und mischen sie mit Ihren Ideen. Anschließend stimmen Sie ab\, welchen Fil
 m Sie sehen möchten. Wir freuen uns über Ihre Vorschläge!Unser Fokus in diesem Jahr 
 liegt auf dem Thema Wahrnehmung und Wirklichkeit.\n\nViel Spass wünscht Gratis-
 in-Berlin\n\nLink zum Tip: https://www.gratis-in-berlin.de/component/flexi
 content/20-kino/2078626-popup-kino-blow-up\nZu den Gratis-in-Berlin Angebo
 ten: http://www.gratis-in-berlin.de\n
DTSTART;VALUE=DATE:20260604
DTEND;VALUE=DATE:20260605
SUMMARY:POPUP-KINO | Blow-up
END:VEVENT
END:VCALENDAR
