BEGIN:VCALENDAR
VERSION:2.0
PRODID:-//Gratis-in-Berlin//NONSGML kigkonsult.se iCalcreator 2.14//
METHOD:PUBLISH
X-WR-CALNAME:Gratis-in-Berlin Tip Kalender
X-WR-CALDESC:Erhalte Gratis-in-Berlin Tips in deinem Kalender
BEGIN:VEVENT
UID:20260423T131148UTC-0920AjhvTs@Gratis-in-Berlin
DTSTAMP:20260423T131148Z
DESCRIPTION:19 Uhr Einlass\, Abendschau um 19:30 Uhr\, Hauptfilm um 20 UhrE
 röffnung mit 'Wunderschöner'\, ein Episodenfilm der Regisseurin und Schauspieler
 in Karoline Herfurth.Programm 2026 - täglich Filme:24. April 2026: Wundersch
 öner25. April 2026: Love &amp\; Basketball26. April 2026: Better Man - Die Ro
 bbie Williams Story27. April 2026: 007 Keine Zeit zu sterben28. April 2026
 : Life of Chuck29. April 2026: We live in Time30. April 2026: Dirty Dancin
 g1. Mai 2026: Harry Potter und der Stein der Weisen2. Mai 2026: Mufasa: De
 r König der Löwen3. Mai 2026: Die Herrlichkeit des LebensRund um den unterhaltsa
 men Kinoabend laden die Läden\, Cafés und Restaurants im Kranzler Eck Berlin z
 u Shopping und Genuss ein. Der Eintritt ist kostenfreiPhotocopyright: Kran
 zler Eck / Lothar Köthe\n\nViel Spass wünscht Gratis-in-Berlin\n\nLink zum Tip: \n
 Zu den Gratis-in-Berlin Angeboten: http://www.gratis-in-berlin.de\n
DTSTART;VALUE=DATE:20260424
DTEND;VALUE=DATE:20260425
SUMMARY:Eröffnung Frühlings Open Air Kino Kranzler Eck
END:VEVENT
END:VCALENDAR
