BEGIN:VCALENDAR
VERSION:2.0
PRODID:-//Gratis-in-Berlin//NONSGML kigkonsult.se iCalcreator 2.14//
METHOD:PUBLISH
X-WR-CALNAME:Gratis-in-Berlin Tip Kalender
X-WR-CALDESC:Erhalte Gratis-in-Berlin Tips in deinem Kalender
BEGIN:VEVENT
UID:20260424T141059UTC-83008HPS3O@Gratis-in-Berlin
DTSTAMP:20260424T141059Z
DESCRIPTION:Im Mädchenzentrum Mädea in Berlin-Wedding rappen junge Mädchen über ihre E
 rfahrungen\, ihre Kämpfe und Träume. Musik und Rap werden zu ihrem Sprachrohr 
 und zum Moment der Selbstbestimmung.Der Dokumentarfilm ?Sisterqueens? erzähl
 t von dem gleichnamigen Hip Hop-Projekt und begleitet drei Protagonist*inn
 en über einen Zeitraum von vier Jahren. Der Film verbindet Kunst und Politik un
 d stellt die Fragen in den Mittelpunkt\, die junge Mädchen und FLINTA* an Ge
 sellschaft und Politik richten. So wird deutlich\, welche Bedeutung Empowe
 rment-Projekte wie ?Sisterqueens? für eine selbstbestimmte und gleichberechtigt
 e Zukunft haben.Trailer: https://youtu.be/8W2n-ZbklR4Im Anschluss an die F
 ilmvorführung findet eine Diskussion mit der Regisseurin Clara Stella Hüneke statt.D
 atum: Mittwoch\, 29. April 2026\, 19:00 UhrOrt: Moviemento Kino | Kottbuss
 er Damm 22 | 10967 BerlinSaal 1Die Filmvorführung und die anschließende Diskussi
 on sind kostenfrei\, um Anmeldung wird gebeten. Der Einlass beginnt um 18:
 45 Uhr. Bitte pünktlich erscheinen. Bei Verspätung kann es sein\, dass trotz Anme
 ldung kein Sitzplatz mehr zur Verfügung steht.Die Veranstaltung wird von der Be
 rliner Landeszentrale für politische Bildung gefördert.\n\nViel Spass wünscht Gratis-in
 -Berlin\n\nLink zum Tip: https://www.gratis-in-berlin.de/component/flexico
 ntent/20-kino/2078670-sisterqueens\nZu den Gratis-in-Berlin Angeboten: htt
 p://www.gratis-in-berlin.de\n
DTSTART;VALUE=DATE:20260429
DTEND;VALUE=DATE:20260430
SUMMARY:'Sisterqueens'
END:VEVENT
END:VCALENDAR
