BEGIN:VCALENDAR
VERSION:2.0
PRODID:-//Gratis-in-Berlin//NONSGML kigkonsult.se iCalcreator 2.14//
METHOD:PUBLISH
X-WR-CALNAME:Gratis-in-Berlin Tip Kalender
X-WR-CALDESC:Erhalte Gratis-in-Berlin Tips in deinem Kalender
BEGIN:VEVENT
UID:20260422T150841UTC-5618B75WUF@Gratis-in-Berlin
DTSTAMP:20260422T150841Z
DESCRIPTION:Anlässlich des 500. Reformationsjubiläums lädt Sie das Deutsche Histo
 rische Museum zu einer Weltzeitreise ein\, die durch fünf Jahrhunderte und über vier
  Kontinente führt. Als erste Ausstellung zeigt der 'Luthereffekt' die Vielfalt 
 und Wirkungsgeschichte\, aber auch die Konfliktpotenziale des Protestantis
 mus in der Welt. Welche Spuren hinterließ er in anderen Konfessionen und Re
 ligionen? Wie veränderte sich der Protestantismus durch diese Begegnungen ? 
 und nicht zuletzt: Wie haben sich Menschen unterschiedlichster Kulturen di
 e evangelische Lehre angeeignet\, sie geformt und gelebt? Ausgehend von de
 n Reformationen im 16. Jahrhundert zeichnet die Schau eine weltumspannende
  Geschichte von Wirkung und Wechselwirkung\, die neben Deutschland exempla
 risch dargestellt wird an Schweden\, den USA\, Korea und Tansania.Eine Aus
 stellung des Deutschen Historischen Museums im Martin-Gropius-Bau\, Berlin
 \n\nViel Spass wünscht Gratis-in-Berlin\n\nLink zum Tip: \nZu den Gratis-in-Ber
 lin Angeboten: http://www.gratis-in-berlin.de\n
DTSTART;VALUE=DATE:20170525
DTEND;VALUE=DATE:20170529
SUMMARY:Eintritt frei in 'Der Luthereffekt' während des Evangelischen Kirchen
 tags
END:VEVENT
END:VCALENDAR
