BEGIN:VCALENDAR
VERSION:2.0
PRODID:-//Gratis-in-Berlin//NONSGML kigkonsult.se iCalcreator 2.14//
METHOD:PUBLISH
X-WR-CALNAME:Gratis-in-Berlin Tip Kalender
X-WR-CALDESC:Erhalte Gratis-in-Berlin Tips in deinem Kalender
BEGIN:VEVENT
UID:20260421T154051UTC-3622Nb4HDX@Gratis-in-Berlin
DTSTAMP:20260421T154051Z
DESCRIPTION:Begleitung durch die Ausstellung 'Ort der deutschen Teilung'Die
  Dauerausstellung im Tränenpalast\, der ehemaligen Ausreisehalle am Grenzübergang
  Friedrichstraße\, zeigt anhand von biografischen Beispielen und Originalob
 jekten\, wie sich die deutsche Teilung auf das Leben der Menschen auswirkt
 e. Mit unserer Begleitung entdecken Sie die wichtigsten Themen und histori
 schen Spuren: Wie gelang Menschen aus der DDR die Flucht oder Ausreise in 
 den Westen? Welche Erfahrungen machten die Reisenden aus Ost und West bei 
 der Abfertigung im Tränenpalast? Welche Erinnerungen verbinden Sie selbst mi
 t diesem historischen Ort?Anlässlich des Internationalen Museumstages gibt e
 s zwei Begleitungen: um 11 und um 16 UhrDie Anmeldung erfolgt vor Beginn d
 es Rundgangs am Informationsschalter in der Ausstellung.\n\nViel Spass wünscht 
 Gratis-in-Berlin\n\nLink zum Tip: \nZu den Gratis-in-Berlin Angeboten: htt
 p://www.gratis-in-berlin.de\n
DTSTART;VALUE=DATE:20260517
DTEND;VALUE=DATE:20260518
SUMMARY:Tränenpalast. Öffentliche Begleitungen anlässlich des Internationalen Mu
 seumstages
END:VEVENT
END:VCALENDAR
