BEGIN:VCALENDAR
VERSION:2.0
PRODID:-//Gratis-in-Berlin//NONSGML kigkonsult.se iCalcreator 2.14//
METHOD:PUBLISH
X-WR-CALNAME:Gratis-in-Berlin Tip Kalender
X-WR-CALDESC:Erhalte Gratis-in-Berlin Tips in deinem Kalender
BEGIN:VEVENT
UID:20260421T120641UTC-2116MFVOzv@Gratis-in-Berlin
DTSTAMP:20260421T120641Z
DESCRIPTION:Die Dauerausstellung im Tränenpalast\, der ehemaligen Ausreisehal
 le am Grenzübergang Friedrichstraße\, zeigt anhand von biografischen Beispielen 
 und Originalobjekten\, wie sich die deutsche Teilung auf das Leben der Men
 schen auswirkte. Mit unserer Begleitung entdecken Sie die wichtigsten Them
 en und historischen Spuren: Wie gelang Menschen aus der DDR die Flucht ode
 r Ausreise in den Westen? Welche Erfahrungen machten die Reisenden aus Ost
  und West bei der Abfertigung im Tränenpalast? Welche Erinnerungen verbinden
  Sie selbst mit diesem historischen Ort?Die Anmeldung erfolgt vor Beginn d
 es Rundgangs am Informationsschalter in der Ausstellung.\n\nViel Spass wünscht 
 Gratis-in-Berlin\n\nLink zum Tip: https://www.gratis-in-berlin.de/21-musee
 n/2053208-bahnhofsrundgang-am-traenenpalast\nZu den Gratis-in-Berlin Angeb
 oten: http://www.gratis-in-berlin.de\n
DTSTART;VALUE=DATE:20260502
DTEND;VALUE=DATE:20260503
SUMMARY:Ausstellungsbegleitung: Tränenpalast. Ort der deutschen Teilung
END:VEVENT
END:VCALENDAR
