BEGIN:VCALENDAR
VERSION:2.0
PRODID:-//Gratis-in-Berlin//NONSGML kigkonsult.se iCalcreator 2.14//
METHOD:PUBLISH
X-WR-CALNAME:Gratis-in-Berlin Tip Kalender
X-WR-CALDESC:Erhalte Gratis-in-Berlin Tips in deinem Kalender
BEGIN:VEVENT
UID:20260421T092557UTC-2707H9gxut@Gratis-in-Berlin
DTSTAMP:20260421T092557Z
DESCRIPTION:Der Eintritt in die Neue Nationalgalerie ab April nur jeden ers
 ten Donnerstag von 16 bis 20 Uhr frei. Der freie Zutritt umfast die Sonder
 ausstellungen in der oberen Halle\, die Sammlungspräsentation im Untergescho
 ss und der Skulpturengarten. Im Rahmen von Art4All.Derzeit eine sehr spann
 ende Brancusi-Ausstellung\, bei der sogar ein Original-Größe-Nachbau seines O
 rginal-Ateiliers (Link zu Foto auf Instgram) zu sehen ist!Natürlich auch Zugang
  zu den anderen Ausstellungen an dem Tag frei\, aber das gerade das Begehr
 teste\, auch da nur temporär bis 9. August.Foto-Copyright: Potsdamer Straße 5
 0\, Berlin-Tiergarten\,&nbsp\;© Staatliche Museen zu Berlin / David von Bec
 ker\n\nViel Spass wünscht Gratis-in-Berlin\n\nLink zum Tip: \nZu den Gratis-in-
 Berlin Angeboten: http://www.gratis-in-berlin.de\n
DTSTART;VALUE=DATE:20260507
DTEND;VALUE=DATE:20260508
SUMMARY:Art4All - alle Ausstellungen frei in der Neuen Nationalgalerie (16 
 - 20 Uhr frei)
END:VEVENT
END:VCALENDAR
