BEGIN:VCALENDAR
VERSION:2.0
PRODID:-//Gratis-in-Berlin//NONSGML kigkonsult.se iCalcreator 2.14//
METHOD:PUBLISH
X-WR-CALNAME:Gratis-in-Berlin Tip Kalender
X-WR-CALDESC:Erhalte Gratis-in-Berlin Tips in deinem Kalender
BEGIN:VEVENT
UID:20260420T113626UTC-8947FhhTFX@Gratis-in-Berlin
DTSTAMP:20260420T113626Z
DESCRIPTION:'Was fühlen Sie jetzt?' ? diese Frage stellt die Kölner Fotografin Bett
 ina Flitner 1990 zahlreichen Menschen aus Ost und West\, als sie den brach
 liegenden Grenzstreifen im ehemals geteilten Berlin erkundet. Knapp 25 Jah
 re später geht sie im einstigen 'sozialistischen Musterdorf' Mestlin in Meck
 lenburg-Vorpommern auf Spurensuche mit der Frage 'Was ist die DDR für dich?'.Es
  entstehen zwei Fotoreportagen\, die die spannungsreiche Umbruchsphase in 
 Ostdeutschland seit 1989 zeigen. Rund 50 Fotografien sind im Museum in der
  Kulturbrauerei zu sehen.In Schwarz-Weiß gehalten die eine\, in Farbe die a
 ndere. Stadtaufnahmen hier\, Porträts vom Land dort: Auf den ersten Blick sc
 heinen die beiden Fotoreportagen widersprüchlich. Das verbindende Element ist d
 ie Herangehensweise von Bettina Flitner. In beiden Projekten verknüpft sie Bild
 kompositionen und Zitate ? sensibel\, individuell und respektvoll gegenüber den
  Porträtierten. Sie sucht Umbrüche\, Widersprüche und Eindrücke und setzt sie ins rechte Li
 cht.Immer stehen die Menschen dabei im Mittelpunkt. Ihre Antworten auf Bet
 tina Flitners Fragen nach dem 'Was wird?' ? 'Was bleibt?' zeugen von Freud
 e und Frust\, von Gleichgültigkeit und Betroffenheit\, von Ängsten\, Hoffnungen 
 und Enttäuschungen. So entstehen tiefe Einblicke in das Lebensgefühl im Osten Deu
 tschlands seit dem Ende der DDR.Öffnungszeiten:Dienstag-Freitag09.00?18.00 
 UhrSamstag-Sonntag und Feiertag10.00?18.00 UhrMontaggeschlossen\n\nViel Sp
 ass wünscht Gratis-in-Berlin\n\nLink zum Tip: \nZu den Gratis-in-Berlin Angebot
 en: http://www.gratis-in-berlin.de\n
DTSTART;VALUE=DATE:20230607
DTEND;VALUE=DATE:20240115
SUMMARY:Wechselausstellung im Museum in der Kulturbrauerei: Niemandsland un
 d Musterdorf. Fotoreportagen von Bettina Flitner 1990/2014 (Di - So)
END:VEVENT
END:VCALENDAR
