BEGIN:VCALENDAR
VERSION:2.0
PRODID:-//Gratis-in-Berlin//NONSGML kigkonsult.se iCalcreator 2.14//
METHOD:PUBLISH
X-WR-CALNAME:Gratis-in-Berlin Tip Kalender
X-WR-CALDESC:Erhalte Gratis-in-Berlin Tips in deinem Kalender
BEGIN:VEVENT
UID:20260420T113534UTC-6267A6zAfe@Gratis-in-Berlin
DTSTAMP:20260420T113534Z
DESCRIPTION:Eine Besonderheit des Gropius Bau ist seine Lage. Sie ist ein w
 ichtiger Bezugspunkt für die inhaltliche Ausrichtung des Hauses. Die Öffnung des
  Hauses für seine verschiedenen Nachbar*innen steht dabei an vorderer Stelle. W
 ie können wir das Ausstellungshaus als Ort der Gemeinschaft denken? Und welch
 er Praktiken bedarf es dafür? Das Neighbour in Residence-Programm ist eine Fort
 führung des seit 2020 bestehenden Austauschs mit interkulturellen\, generatione
 nübergreifenden und queeren Nachbarschaftsinitiativen. Ein wichtiger Wegbegleit
 er in dieser Zeit war der interdisziplinär arbeitende Schriftsteller hn. lyo
 nga. Als erster Neighbour in Residence am Gropius Bau wird er sich in der 
 zweiten Jahreshälfte 2023 mit seinem Programm becoming neighbours der Frage 
 widmen\, wie nachbarschaftliche Beziehungen in institutionellen Räumen beste
 hen können.becoming neighboursbecoming neighbours ist eine Reihe von vier Wor
 kshops (Nachbarschaften\, Ruhen\, Pflanzen\, In der Welt sein). Der erste 
 Workshop (Nachbarschaften) ist ein aktiver Versuch\, einen Raum für die Abwesen
 den zu schaffen und sich mit der Durchlässigkeit institutioneller Räume zu bef
 assen. Der zweite Workshop (Ruhen) greift die Möglichkeiten des Zusammenkomme
 ns und des gemeinsamen Ausruhens als Akt des Widerstands auf. Der dritte W
 orkshop (Pflanzen) nimmt Bezug auf Praktiken der Landwirtschaft und des Pf
 lanzens\, wodurch Nachbarschaften als Lebensräume betrachtet werden\, in die
  wir uns hineingeben. Der letzte Workshop (In der Welt sein) befasst sich 
 mit der zeremoniellen Tradition des Schreibens als ein Ritual\, das üblich und 
 entscheidend für das Festhalten von Erzählungen ist\, die in einer Nachbarschaft 
 existieren.Das Programm findet in den kostenlos zugänglichen Bereichen (Grop
 ius Hain\, Lichthof\, Resonanzraum) des Gropius Bau statt.\n\nViel Spass w
 ünscht Gratis-in-Berlin\n\nLink zum Tip: \nZu den Gratis-in-Berlin Angeboten: h
 ttp://www.gratis-in-berlin.de\n
DTSTART;VALUE=DATE:20230709
DTEND;VALUE=DATE:20231127
SUMMARY:Neighbour in Residence mit 2023  hn. lyonga: becoming neighbours (M
 i - Mo)
END:VEVENT
END:VCALENDAR
