BEGIN:VCALENDAR
VERSION:2.0
PRODID:-//Gratis-in-Berlin//NONSGML kigkonsult.se iCalcreator 2.14//
METHOD:PUBLISH
X-WR-CALNAME:Gratis-in-Berlin Tip Kalender
X-WR-CALDESC:Erhalte Gratis-in-Berlin Tips in deinem Kalender
BEGIN:VEVENT
UID:20260420T113919UTC-3033VaNOoA@Gratis-in-Berlin
DTSTAMP:20260420T113919Z
DESCRIPTION:Die Aquarelle des 2020 verstorbenen\, Indigenen Künstlers Feliciano 
 Lana aus Brasilien beschäftigen sich mit der Geschichte des Kontakts zwische
 n Indigenen und Weißen am Oberen Rio Negro.Lana erzählt in seinen Darstellung
 en eine lokale Version der globalen Geschichte und liefert neue\, teils se
 hr persönliche Perspektiven auf den Vormarsch von Kolonialismus und Kapitalis
 mus.Die Zeichnungen zeigen u.a. den Ursprung der Weißen\, ihre Vertreibung 
 wegen unangemessenen Verhaltens bei einem Ritual und ihre Rückkehr als Soldaten
 \, Forscher\, Kolonial- und Staatsverwalter.Im Zentrum der Ausstellung ste
 hen die Werke und die Perspektive des Künstlers (u.a. Videointerview). Zusammen
  mit diesen werden einige Werke jüngerer zeitgenössischer Indigener Künstler*innen aus 
 Brasilien gezeigt sowie eine Videoinstallation mit Indigenen Zeitzeug*inne
 n\, die auf die von Lana erzählten Geschichten Bezug nehmen.Feliciano Lana\,
  mit Indigenem Namen Sibé\, wurde 1937 in São João Batista\, einer kleinen Gemei
 nde am Fluss Tiquié im Nordosten Brasiliens geboren.Lanas Vater war Desana\,
  seine Mutter gehörte zur Sprachgruppe den Tukano. Im Alter von vier Jahren\,
  1941\, wurde er in ein Internat der Salesianer gebracht\, um fernab seine
 r Gemeinschaft im Sinne der Weißen erzogen zu werden. Hier lernte Lana die 
 portugiesische Sprache zu lesen und zu schreiben\, er bekam Unterricht in 
 Mathematik\, Physik und geometrischem Zeichnen.Die Zeit im Internat markie
 rte zugleich den Anfang von Lanas Beziehungen zur nicht-indigenen Welt\, d
 ie für einen Großteil seines weiteren Lebens prägend waren.Nach seinem Schulabschl
 uss lebte Lana einige Jahre in Kolumbien. Nach seiner Rückkehr in seine Heimat 
 arbeitete er als Plantagenarbeiter\, Maurergehilfe\, Traktorfahrer\, Teleg
 rafist\, Ziegler und Minenarbeiter.Feliciano Lana gilt der westlichen Welt
  als einer der ersten Indigenen Künstler*innen aus dem Amazonasgebiet.Sein Wirk
 en begann Anfang der 1970er Jahre\, als er von dem aus Litauen stammenden 
 Pater Casimiro Bécksta dazu eingeladen wurde\, die Indigene Kultur der Regio
 n aufzuzeichnen. Eigentlich sollte Lana fotografieren und Audioaufnahmen e
 rstellen\, entschied sich dann aber dazu\, sein Wissen in gemalten Bilder 
 festzuhalten. Nach und nach entwickelte er sich zum Experten darin\, die T
 raditionen und das mythische Universum der Region sichtbar zu machen.Im Ma
 i 2020 starb Feliciano Lana Sibé in seinem Zuhause in der Gemeinde São Francis
 co infolge einer COVID-19-Infektion.Eine temporäre Ausstellung der Stiftung 
 Humboldt Forum im Berliner Schloss in Zusammenarbeit mit dem Ethnologische
 n Museum der Staatlichen Museen zu Berlin ? Preußischer Kulturbesitz.- kost
 enlos- ab 12 Jahre- Sprachen: Deutsch/Englisch- Raum 302\, 3. OG\n\nViel S
 pass wünscht Gratis-in-Berlin\n\nLink zum Tip: \nZu den Gratis-in-Berlin Angebo
 ten: http://www.gratis-in-berlin.de\n
DTSTART;VALUE=DATE:20250524
DTEND;VALUE=DATE:20251231
SUMMARY:Feliciano Lana. Die Geschichte der Weißen (Mi - Mo)
END:VEVENT
END:VCALENDAR
