BEGIN:VCALENDAR
VERSION:2.0
PRODID:-//Gratis-in-Berlin//NONSGML kigkonsult.se iCalcreator 2.14//
METHOD:PUBLISH
X-WR-CALNAME:Gratis-in-Berlin Tip Kalender
X-WR-CALDESC:Erhalte Gratis-in-Berlin Tips in deinem Kalender
BEGIN:VEVENT
UID:20260422T142859UTC-2192u0smmh@Gratis-in-Berlin
DTSTAMP:20260422T142859Z
DESCRIPTION:Vor 80 Jahren endete in Europa der Zweite Weltkrieg. Die Ausste
 llung rückt erstmals die Erfahrungen der Zwangsarbeiter:innen in Berlin in den 
 Fokus. Anfang 1945 befanden sich rund 370.000 ausländische Zivilarbeiter:inn
 en\, Kriegsgefangene und KZ-Häftlinge in der Reichshauptstadt Berlin. Hunger
 \, Luftangriffe und Gewalt bestimmten ihren Alltag\, während die Stadt zuneh
 mend zum Schlachtfeld wurde. Nach Jahren der Ausbeutung und Entmenschlichu
 ng erlebten sie Ende April 1945 endlich ihre Befreiung.Doch das Kriegsende
  brachte für viele Befreite\, sogenannte Displaced Persons\, neue Unsicherheite
 n mit sich. Oft mussten sie in Sammellagern ausharren\, während sich ihre He
 imreise verzögerte. Im Herbst 1945 waren die meisten aus dem Berliner Stadtbi
 ld verschwunden ? und bald auch aus dem Gedächtnis der Deutschen. Die Anerke
 nnung als NS-Opfer blieb vielen lange verwehrt\, sowohl in Deutschland als
  auch in ihrer Heimat. Dienstags - Donnerstags 10-18 Uhr\n\nViel Spass wünscht 
 Gratis-in-Berlin\n\nLink zum Tip: \nZu den Gratis-in-Berlin Angeboten: htt
 p://www.gratis-in-berlin.de\n
DTSTART;VALUE=DATE:20250430
DTEND;VALUE=DATE:20251103
SUMMARY: Vergessene Befreiung. Zwangsarbeiter:innen in Berlin 1945 (Di - Do
 )
END:VEVENT
END:VCALENDAR
