BEGIN:VCALENDAR
VERSION:2.0
PRODID:-//Gratis-in-Berlin//NONSGML kigkonsult.se iCalcreator 2.14//
METHOD:PUBLISH
X-WR-CALNAME:Gratis-in-Berlin Tip Kalender
X-WR-CALDESC:Erhalte Gratis-in-Berlin Tips in deinem Kalender
BEGIN:VEVENT
UID:20260420T174544UTC-8077FvLXG8@Gratis-in-Berlin
DTSTAMP:20260420T174544Z
DESCRIPTION:Während der Zeit des Nationalsozialismus waren freundschaftliche 
 und intime Kontakte zwischen Deutschen und Kriegsgefangenen oder Zwangsarb
 eiter:innen unerwünscht. Zum Teil waren sie streng verboten. Doch sie sind »trot
 zdem da«: Kinder\, die aus solchen Beziehungen hervorgegangen sind. Ihre Ge
 schichten wurden lange tabuisiert. Sie sind wissenschaftlich wenig erforsc
 ht und in der Erinnerungskultur kaum präsent. Diese Ausstellung ist ihren Le
 bensgeschichten gewidmet.Verbotene BeziehungenIm Verlauf des Zweiten Weltk
 rieges mussten rund 13 Millionen Kriegsgefangene und Zwangsarbeiter:innen 
 im Deutschen Reich arbeiten. Bei freundschaftlichen oder intimen Kontakten
  mit Deutschen drohten beiden Seiten hohe Strafen. Sie reichten von Gefängni
 sstrafen über die Einweisung in ein Konzentrationslager bis zur Todesstrafe. De
 nnoch wurden Kinder aus solchen Beziehungen geboren.Die KinderViele Kinder
  aus verbotenen Beziehungen wussten lange nicht\, dass ein Elternteil Krie
 gsgefangener oder Zwangsarbeiter:in gewesen war. Häufig wurden sie dennoch a
 ls uneheliches Kind und nicht der gesellschaftlichen Norm entsprechend sti
 gmatisiert. Immer wieder wurden sie rassistisch beleidigt und diskriminier
 t. Viele suchten Jahrzehnte nach einem unbekannten Elternteil ? in manchen
  Fällen mit Erfolg. Dienstags - Sonntags 10 - 18 Uhr\n\nViel Spass wünscht Gratis
 -in-Berlin\n\nLink zum Tip: \nZu den Gratis-in-Berlin Angeboten: http://ww
 w.gratis-in-berlin.de\n
DTSTART;VALUE=DATE:20251121
DTEND;VALUE=DATE:20260427
SUMMARY: Trotzdem da! Kinder aus verbotenen Beziehungen zwischen Deutschen 
 und Kriegsgefangenen oder Zwangsarbeiter*innen (Di - So)
END:VEVENT
END:VCALENDAR
