BEGIN:VCALENDAR
VERSION:2.0
PRODID:-//Gratis-in-Berlin//NONSGML kigkonsult.se iCalcreator 2.14//
METHOD:PUBLISH
X-WR-CALNAME:Gratis-in-Berlin Tip Kalender
X-WR-CALDESC:Erhalte Gratis-in-Berlin Tips in deinem Kalender
BEGIN:VEVENT
UID:20260424T082903UTC-7377mFgz1d@Gratis-in-Berlin
DTSTAMP:20260424T082903Z
DESCRIPTION:In dieser Galerie-Ausstellung steht die textile Installation de
 r in Russland geborenen und in England und Irland lebenden Künstlerin Varvara K
 eidan Shavrova im Mittelpunkt. Acht mit Siebdruck gestaltete Filzdecken ze
 igen Bildmotive aus ihrem Familienalbum. Es handelt sich um eine soziale u
 nd performative Installation. Sie können die Decken anfassen oder sich um die
  Schulter legen.Dem Kunstwerk werden historische Objekte aus der Sammlung 
 des Dokumentationszentrums gegenübergestellt: Eine Tischdecke aus Ostpreußen\, e
 ine Tagesdecke aus Böhmen und ein Tischdeckchen aus Brandenburg.Stoffliches w
 ie Decken\, Tischdecken\, Taschentücher\, Trachten\, Mäntel\, Umhänge\, Schals oder
  Überwürfe zeugen auf anrührende Weise von schweren Erfahrungen\, sind Relikte von Le
 id und Entbehrung. Sie stehen für den zutiefst menschlichen Wunsch\, sich mit e
 twas Warmem\, Vertrautem und Familiärem zu verbinden und dem schmerzlichen G
 efühl von Heimatverlust\, Einsamkeit und Entwurzelung entgegen zu wirken.Erfahr
 ungen\, die Millionen Flüchtlinge\, Vertriebene und Emigrierte teilen und an di
 e sich Varvara Keidan Shavrovas Werk richtet.Laufzeit der Galerie-Ausstell
 ung: 2. Februar bis 16. November 2025\n\nViel Spass wünscht Gratis-in-Berlin\n
 \nLink zum Tip: https://www.gratis-in-berlin.de/kalender/item/2075715-text
 ile-erinnerungen\nZu den Gratis-in-Berlin Angeboten: http://www.gratis-in-
 berlin.de\n
DTSTART;VALUE=DATE:20250202
DTEND;VALUE=DATE:20251117
SUMMARY:Galerie Ausstellung: Textile Erinnerungen
END:VEVENT
END:VCALENDAR
