BEGIN:VCALENDAR
VERSION:2.0
PRODID:-//Gratis-in-Berlin//NONSGML kigkonsult.se iCalcreator 2.14//
METHOD:PUBLISH
X-WR-CALNAME:Gratis-in-Berlin Tip Kalender
X-WR-CALDESC:Erhalte Gratis-in-Berlin Tips in deinem Kalender
BEGIN:VEVENT
UID:20260419T155333UTC-4923u6aEJc@Gratis-in-Berlin
DTSTAMP:20260419T155333Z
DESCRIPTION:In der DDR befand sich zwischen 1951 und 1990 in der Keibelstra
 ße am Berliner Alexanderplatz die Untersuchungshaftanstalt Berlin-Mitte bzw
 . UHA II. Sie war dem Ministerium des Innern unterstellt und lag innerhalb
  des Ost-Berliner Präsidiums der Volkspolizei. In der Untersuchungshaftansta
 lt wurden Personen wegen verschiedener Tatvorwürfe inhaftiert und warteten auf 
 den Ausgang der Ermittlungen und des Gerichtsverfahrens. Die ?Keibelstraße?
  ist ein Symbol für staatliche Repression und Willkür\, an dem sich Vorstellungen vo
 n politischer Opposition und gesellschaftlicher Abweichung\, aber auch von
  ?gewöhnlicher? Kriminalität in einer Diktatur nachvollziehen lassen. Die Führung du
 rch das ehemalige Untersuchungsgefängnis thematisiert die Geschichte des Ort
 es\, die Schicksale der Inhaftierten und die Bedingungen\, unter denen sie
  in der Keibelstraße einsaßen. Ein weiterer Schwerpunkt liegt auf den baulic
 hen Veränderungen. Denn ab 1990 nutzen Film- und Musikproduzent*innen die un
 teren Stockwerke der ehemaligen Haftanstalt als Kulisse und gestalteten Te
 ile der Haftraumhalle nach ihren Vorstellungen um. \nDie Führung dauert ca. 45 
 Minuten. Danach haben Sie Zeit\, den Ort selbstständig zu erkunden. Treffpun
 kt ist um 11:55 Uhr vor der Senatsverwaltung für Bildung\, Jugend und Familie i
 n der Bernhard-Weiß-Straße 6\, 10178 Berlin. Bitte seien Sie pünktlich\, da ein s
 päterer Einlass nicht möglich ist. Sollten Sie einen barrierefreien Zugang benötig
 en\, teilen Sie uns dies bitte im Vorhinein mit.\n\nViel Spass wünscht Gratis-i
 n-Berlin\n\nLink zum Tip: \nZu den Gratis-in-Berlin Angeboten: http://www.
 gratis-in-berlin.de\n
DTSTART;VALUE=DATE:20261220
DTEND;VALUE=DATE:20261221
SUMMARY:Öffentliche Führung ?Inhaftiert am Alexanderplatz?
END:VEVENT
END:VCALENDAR
