BEGIN:VCALENDAR
VERSION:2.0
PRODID:-//Gratis-in-Berlin//NONSGML kigkonsult.se iCalcreator 2.14//
METHOD:PUBLISH
X-WR-CALNAME:Gratis-in-Berlin Tip Kalender
X-WR-CALDESC:Erhalte Gratis-in-Berlin Tips in deinem Kalender
BEGIN:VEVENT
UID:20260419T122516UTC-104017TFV9@Gratis-in-Berlin
DTSTAMP:20260419T122516Z
DESCRIPTION:Was bedeutet es heute\, Vater zu sein? Welche Bespiele gibt es 
 um\, Männlichkeit auf eine fürsorgliche und emotional offene Weise zu leben und d
 efinieren?Forschungen zeigen\, dass starre\, traditionelle Erwartungen an 
 Männlichkeit ? stark\, stoisch\, dominant zu sein ? sich negativ auf die psy
 chische Gesundheit und das emotionale Leben von Jungen und Männern auswirken
  können. Der Begriff ?toxische Männlichkeit? hat eine notwendige Debatte angest
 oßen ? aber wie geht es weiter? Wie kommen wir vom bloßen Kritisieren ins Ha
 ndeln?Die Black Dads Germany\, gegründet von Podiumsgast Alain Missala\, eröffnen 
 neue Perspektiven auf das Bild von Vätern und Maskulinität in Deutschland\, wo
 bei Fürsorge eine zentrale Rolle spielt. Gleichzeitig setzt sich die Initiative
  Black Dads Germany für eine vielfältigere und inklusivere Gesellschaft ein. Blac
 k Dads ist ein unterstützendes Netzwerk\, das Familien stärkt und sichere Räume für Väte
 r und ihre Kinder schafft ? zum Spielen\, Lesen\, Lernen und Austauschen.I
 m Humboldt Forum stellt die französsich-senegalesische Filmemacherin Marina G
 ning ihre eindrucksvolle Dokumentarfilm-Serie Père(s)-Fille(s) (Väter?Töchter) vo
 r\, die die oft zärtlichen\, manchmal komplexen und sehr bestärkenden Beziehun
 gen zwischen Vätern und Töchtern beleuchtet. Inspiriert von diesen intimen Port
 räts öffnen wir die Diskussion: Welche Rolle spielt Vaterschaft bei der Gestalt
 ung moderner Männlichkeit? Was bedeuten fürsorgliche Väter für ihre Töchter ? und umgekehrt
 ?Gemeinsam erkunden sie\, wie Vaterschaft zu einer transformierenden Kraft
  werden kann ? nicht nur in der Familie\, sondern auch in der Gesellschaft
 . Ausgehend von persönlichen Erfahrungen bis hin zum öffentlichen Diskurs\, von 
 Film bis zur Community-Arbeit\, bringen sie neue Perspektiven darauf\, was
  es heute bedeutet\, ein Mann zu sein.Die Veranstaltung zeigt außerdem eine
 n Filmausschnitt mit dem senegalesischen Anthropologen und Community-Educa
 tor Cheikh Sadibou Sakho\, der Wege zu positiver Männlichkeit aufzeigt ? ver
 wurzelt in Empathie\, Fürsorge und Verletzlichkeit ? und fragt\, wie sich diese
  über verschiedene Kulturen\, Gemeinschaften\, Vaterschaftsformen und Lebensges
 chichten hinweg entfalten kann.BeteiligteAlain Missala\, Gründer von Black Dads
  Germany\, setzt sich für Sichtbarkeit und Empowerment durch Vaterschaft ein.Ma
 rina Gning\, Filmemacherin von Père(s)-Fille(s)\, Teil der Ausstellung Bezie
 hungsweise Familie.Moderation: Solvej OvesenPartnerDie Filmreihe Pere(s)-F
 ille(s) wurde in Zusammenarbeit mit dem Regionalvorhaben ?Sport für Entwicklung
  in Afrika? (S4DA) der Deutschen Gesellschaft für Internationale Zusammenarbeit
  (GIZ) GmbH realisiert\, im Auftrag des Bundesministeriums für wirtschaftliche 
 Zusammenarbeit und Entwicklung (BMZ).Koordination: Catherine DaraspeRealis
 ierung/Video: Marina Gning- ab 16 Jahre- Deutsch\, Englisch- Mechanische A
 rena im Foyer- Teil von: Gästezimmer- Gehört zu: Beziehungsweise Familie\n\nVie
 l Spass wünscht Gratis-in-Berlin\n\nLink zum Tip: https://www.gratis-in-berlin.
 de/museen/item/2076098-positive-maskulinitaet-vater-kind-beziehungen\nZu d
 en Gratis-in-Berlin Angeboten: http://www.gratis-in-berlin.de\n
DTSTART;VALUE=DATE:20251126
DTEND;VALUE=DATE:20251127
SUMMARY:Positive Maskulinität - Vater-Kind Beziehungen
END:VEVENT
END:VCALENDAR
