BEGIN:VCALENDAR
VERSION:2.0
PRODID:-//Gratis-in-Berlin//NONSGML kigkonsult.se iCalcreator 2.14//
METHOD:PUBLISH
X-WR-CALNAME:Gratis-in-Berlin Tip Kalender
X-WR-CALDESC:Erhalte Gratis-in-Berlin Tips in deinem Kalender
BEGIN:VEVENT
UID:20260419T173724UTC-4554j4iw7x@Gratis-in-Berlin
DTSTAMP:20260419T173724Z
DESCRIPTION:Willkommen im Wohnzimmer. Ein Treffpunkt der Generationen. Dies
 er Raum lädt zum Lesen\, Entspannen\, Weben\, Stricken\, Anschauen und Zuhören 
 ein. Als Teil des Programms Beziehungsweise Familie bietet er die Möglichkeit
 \, zur Ruhe zu kommen\, neugierig zu werden und aktiv zu erkunden.Das Wohn
 zimmer eröffnet Zugänge zu vielfältigen Formen von Familie. Es stellt Fragen dana
 ch\, wie familiäre Hintergründe Lebenswege prägen und wie die eigene Lebensgeschich
 te mitgestaltet oder ?verwebt? wird.Kollektive Wandcollage und Web- und St
 rick WorkshopreiheEine partizipative Wandcollage und Workshop-Reihe erkund
 et die matriarchalen Linien der Wayuu-Gemeinschaft durch Textilkunst und S
 torytelling. Dem Faden der Geschichte von Waleker folgend\, sind die Besuc
 her*innen eingeladen\, mitzuweben. Besuchen Sie die Workshopreihe Geschenk
  der Spinne! Das Projekt erkundet die reiche Kosmologie und weibliche Lini
 e der Wayuu-Gemeinschaft im Norden Kolumbiens und Venezuelas. Das Aliwaa-K
 ollektiv ? Sindri Gonzales Ipuana (Wayuu-Weberin)\, Stefannia Doria (Kurat
 orin aus Kolumbien) und Raquel van Haver (Künstlerin aus Kolumbien und den Nied
 erlanden) ? hat die Grundlage für ein gemeinschaftliches Kunstwerk geschaffen. 
 Die gewebten oder gestrickten Beiträge von Besucher*innen des Humboldt Forum
 s sowie Werke der Wayuu-Webcommunity werden hinzugefügt und bilden gemeinsam ei
 ne Collage\, die von allen Beteiligten ko-kreiert wird. Bis in den Frühling wir
 d sie stetig wachsen.Auch das Diorama Erinnerung\, Identität\, Weitergabe is
 t ein kollaboratives Werk. In einem zehntägigen Workshop entstand aus persönlic
 hen Erinnerungen\, familiären Überlieferungen und alltäglichen Handlungen diese
  kollektive\, transgenerationelle Familiengeschichte.Da die familiäre Linie 
 ein zentrales Thema im Wohnzimmer ist\, präsentieren wir außerdem den neuen K
 urzfilm What Difference Would It Make If I Told You? von ?OKOPOP (Ekim Acu
 n) über vererbte Familiengeheimnisse. Acun gibt einen Einblick in seine Familie
 ngeschichte\, deren kurdisch-zazaische und türkisch-armenische Wurzeln ihm lang
 e verborgen blieben. Er offenbart Fragmente von Überleben\, Aktivismus und 
 geerbtem Schweigen ? bis ein persönliches Geheimnis das Muster des Verschweig
 ens durchbricht.Entdecken Sie schließlich in der Familien-Bibliothek für Alle Ge
 schichten über Verwandschaft\, Fürsorge und besondere Beziehungen. Die von Black Dad
 s Germany kuratierte Auswahl bietet vielfältige Bücher (ab 3 Jahren) mit lokalen 
 und globalen Perspektiven. Black Dads Germany schafft sichere Räume für diverse V
 äter und Kinder\, stärkt Familien und vernetzt Gemeinschaften deutschlandweit.
 BeteiligteEkim Acun (Tunceli\, 1988) studierte Film und Fernsehen an der U
 niversität Roma Tre und am UAL: London College of Communication. Er nahm als
  bildender Künstler an verschiedenen Ausstellungen in London und Istanbul teil.
  2018 gründete er ?OKOPOP\, das sich mit den Themen Erinnerung\, Geschlecht und
  Identität anhand der Geschichte der türkischen Populärkultur beschäftigt. Mit seinen
  Dokumentarfilmen\, Performances\, Collagen und Videoarbeiten\, die aus in
 tensiven Forschungsprozessen hervorgehen\, untersucht er weiterhin Sexuali
 tät und Zensur durch eine queere Linse.Die Gruppe Erinnerung\, Identität\, Wei
 tergabe ist ein zeitlich begrenztes kollaboratives Projekt zum transgenera
 tionalen Erinnern mit Florian Hermes\, Honorata Nawrocki\, Marisol Ozomatl
 i Malinalli\, Leila\, Franziska Pierwoss\, Diana Krämer und Alia Rayyan.Aliw
 aa Collective: Die Wandcollage The Story of Waleka wurde vom Aliwaa Collec
 tive geschaffen. Das Aliwaa Collective besteht aus Sindri Gonzales Ipuana 
 (Wayuu-Weberin aus Kolumbien)\, Stefannia Doria (Kuratorin aus Kolumbien) 
 und Raquel van Haver (Künstlerin aus Kolumbien und den Niederlanden).Alain Miss
 ala leitet eine Basisbewegung für Schwarze Männer in Deutschland\, mit einem beso
 nderen Schwerpunkt auf ihrer Identität als Väter. Mit dieser Initiative prägt er
  das öffentliche Bild der Schwarzen Vaterschaft in der deutschen Gesellschaft
  neu und rückt Schwarze Narrative in den Mittelpunkt kultureller Repräsentation. 
 Seine Arbeit richtet sich insbesondere an kommende Generationen und nutzt 
 Kinderliteratur als Instrument\, um positive Darstellungen Schwarzer Famil
 ien zu fördern. Alain ermutigt Schwarze Väter\, zu Veränderungsakteuren in ihren 
 Gemeinschaften zu werden und langfristige gesellschaftliche Transformation
  voranzutreiben.- Eintritt frei- Ort: Sonderausstellungs-Foyer\, EG- ab 3 
 Jahre- Sprachrn: Deutsch\, Englisch- Öffnungszeiten: Mo\, Mi\, Do\, Fr\, Sa
 \, So: 10:30 ? 18:30 Uhr\; Di: geschlossen- Laufzeit: 24.01.2026 bis 03.08
 .2026\n\nViel Spass wünscht Gratis-in-Berlin\n\nLink zum Tip: \nZu den Gratis-i
 n-Berlin Angeboten: http://www.gratis-in-berlin.de\n
DTSTART;VALUE=DATE:20260124
DTEND;VALUE=DATE:20260804
SUMMARY:Wohnzimmer - Ausstellung\, Installation\, Workshop (Mi - Mo)
END:VEVENT
END:VCALENDAR
