BEGIN:VCALENDAR
VERSION:2.0
PRODID:-//Gratis-in-Berlin//NONSGML kigkonsult.se iCalcreator 2.14//
METHOD:PUBLISH
X-WR-CALNAME:Gratis-in-Berlin Tip Kalender
X-WR-CALDESC:Erhalte Gratis-in-Berlin Tips in deinem Kalender
BEGIN:VEVENT
UID:20260419T155331UTC-7416g4VRF3@Gratis-in-Berlin
DTSTAMP:20260419T155331Z
DESCRIPTION:Wer von Februar bis Dezember seinen Besuch im Ägyptischen Museum
  auf den 1. Sonntag oder einen Sonntag in den Berliner Schulferien legt\, 
 kann seinen Rundgang besonders spannend und abwechslungsreich gestalten. D
 enn an diesen Tagen laden die Mitglieder des Vereins zur Förderung des Ägyptis
 chen Museum Berlin e. V. dazu ein\, mit einem Suchspiel den Kunstwerken un
 d ihren Geheimnissen auf die Spur zu kommen.Schon seit drei Jahren gehen k
 leine und große Entdecker auf Spurensuche im Museum\, auch in diesem Jahr w
 erden sie wieder vom Skarabäus Scheri begleitet\, der seinem Freund dem Tour
 isten Paul einiges über das alte Ägypten erzählt.Das Suchspiel - in Deutsch und En
 glisch erhältlich - wird an den genannten Sonntagen für zwei Altersgruppen (6-11j
 ährige sowie ab 12 Jahre + Erwachsene ) in der Zeit zwischen 11:00 - 15:30 U
 hr ausgegeben. Am Ende wartet auf jede Teilnehmerin/jeden Teilnehmer ein k
 leines Präsent\, das aus dem Wüstensand ausgegraben werden kann.Wer mit offenen A
 ugen durch die Ausstellung geht\, kann die Fragen des Suchspiels sehr leic
 ht beantworten und kommt mit Scheri und Paul Ägypten ganz nah!\n\nViel Spas
 s wünscht Gratis-in-Berlin\n\nLink zum Tip: \nZu den Gratis-in-Berlin Angeboten
 : http://www.gratis-in-berlin.de\n
DTSTART;VALUE=DATE:20260606
DTEND;VALUE=DATE:20260607
SUMMARY:Ägypten ganz nah - folge dem Skarabäus Scheri ein Suchspiel durch das 
 Ägyptische Museum Berlin 
END:VEVENT
END:VCALENDAR
