BEGIN:VCALENDAR
VERSION:2.0
PRODID:-//Gratis-in-Berlin//NONSGML kigkonsult.se iCalcreator 2.14//
METHOD:PUBLISH
X-WR-CALNAME:Gratis-in-Berlin Tip Kalender
X-WR-CALDESC:Erhalte Gratis-in-Berlin Tips in deinem Kalender
BEGIN:VEVENT
UID:20260420T113605UTC-1134nUN0gi@Gratis-in-Berlin
DTSTAMP:20260420T113605Z
DESCRIPTION:TELEFONFÜHRUNG\nIn dieser Hörführung richten wir den Blick auf die 
 weibliche Erfahrung von Flucht und Vertreibung. Wir widmen uns den Geschic
 hten von Frauen\, die in den letzten Monaten des Zweiten Weltkrieges und n
 ach dem Krieg flohen oder vertrieben wurden.Auf der Flucht waren es häufig d
 ie Frauen\, welche die Verantwortung für Kinder\, ältere Angehörige und den Alltag u
 nter extremen Bedingungen trugen. Hunger\, Kälte\, Erschöpfung\, Angst und Gewa
 lterfahrungen prägten diese Zeit.Diese Führung beleuchtet den speziellen Zusammen
 hang zwischen Nationalismus\, Geschlechterrollen und sexueller Gewalt in K
 riegen\, sowohl im Kontext des Zweiten Weltkrieges\, als auch anhand aktue
 ller Beispiele.Anhand von Objekten\, Fotografien und Fluchtberichten beric
 hten wir von individuellen Erfahrungen von geflüchteten und vertriebenen Frauen
 .\n\nTeilnahme: kostenlos Sprache: DeutschAnmeldungMail: buchung@beianrufk
 ultur.deTel: (040)?209?404?36&nbsp\;Durch das Angebot ?Bei Anruf Kultur? w
 ird eine Teilhabe-Möglichkeit für Menschen geschaffen\, die sonst keine Möglichkeit h
 ätten\, diese Ausstellung zu erleben.\n\n\n\nViel Spass wünscht Gratis-in-Berlin
 \n\nLink zum Tip: \nZu den Gratis-in-Berlin Angeboten: http://www.gratis-i
 n-berlin.de\n
DTSTART;VALUE=DATE:20260407
DTEND;VALUE=DATE:20260408
SUMMARY:Telefonführung: Stark und verletzlich. Frauen auf der Flucht
END:VEVENT
END:VCALENDAR
