BEGIN:VCALENDAR
VERSION:2.0
PRODID:-//Gratis-in-Berlin//NONSGML kigkonsult.se iCalcreator 2.14//
METHOD:PUBLISH
X-WR-CALNAME:Gratis-in-Berlin Tip Kalender
X-WR-CALDESC:Erhalte Gratis-in-Berlin Tips in deinem Kalender
BEGIN:VEVENT
UID:20260419T155457UTC-9852c49u7O@Gratis-in-Berlin
DTSTAMP:20260419T155457Z
DESCRIPTION:NachbarschaftsfestRund um das Humboldt-Becken und die Invaliden
 straße tut sich in diesem Sommer etwas. Zum ersten Mal schließt sich die Nac
 hbarschaft zusammen und lädt euch ein\, den Kiez neu zu entdecken. Zwischen 
 Wasser und Wegen\, drinnen und draußen\, Ausstellungen und Aktionen. Wir öffne
 n Räume\, verbinden Orte und bringen damit Kunst\, Wissenschaft\, Innovation
 \, Geschichte und Zukunft in Bewegung. Ein Wochenende für Austausch\, Begegnung
 en und ungewöhnliche Formate ? in der Mitte Berlins\, unter Menschen. Kommt v
 orbei und erlebt\, wie sich das Viertel neu erzählt!Das detaillierte Program
 m folgt im Mai 2026.Informationen-&gt\; Veranstaltungsort: Futurium und um
 liegendes Viertel-&gt\; Eintritt: kostenfrei-&gt\; Für einige Programmpunkte mu
 ss ein Ticket gebucht werden.-&gt\; Veranstaltungssprache: Deutsch\, Engli
 schZugänglichkeit-&gt\; Menschen mit Seheinschränkungen sind willkommen. -&gt\
 ; Blindenführungsassistenz fragen wir an\, wenn ihr Bedarf habt.-&gt\; Wir sind
  ein rollstuhlgerechter Veranstaltungsort.-&gt\; Interessierte jeden Alter
 s sind willkommen.-&gt\; Teilnahmebedingungen: keine Vorkenntnisse erforde
 rlich-&gt\; Getränke und Speisen können erworben werden.Zukunft ist für alle da! Das
  Futurium möchte für alle Menschen zugänglich sein. Wenn es eurerseits weitere Zugan
 gsbedürfnisse gibt\, teilt sie uns gern mit. Wir versuchen\, sie zu erfüllen: info@f
 uturium.deHier findet ihr alle Informationen zur Barrierefreiheit:&nbsp\;h
 ttps://futurium.de/de/barrierefreiheitFoto &amp\; Video-&gt\; Während der Ve
 ranstaltung werden Fotos und Videos gemacht. Wenn ihr nicht abgebildet wer
 den wollt\, meldet euch bitte vorab.Tickets-&gt\; Das Futurium lebt von gr
 oßen Ideen ? und kleinen Beiträgen. Mit einer Spende macht ihr Zukunft möglich! 
 Hier könnt ihr das Futurium unterstützen:&nbsp\;https://futurium.de/de/spenden\n&n
 bsp\;\n\nFoto: David von Becker\n\nViel Spass wünscht Gratis-in-Berlin\n\nLink 
 zum Tip: https://www.gratis-in-berlin.de/museen/item/2077529-ein-viertel-v
 iele-perspektiven\nZu den Gratis-in-Berlin Angeboten: http://www.gratis-in
 -berlin.de\n
DTSTART;VALUE=DATE:20260613
DTEND;VALUE=DATE:20260614
SUMMARY:Ein Viertel ? viele Perspektiven
END:VEVENT
END:VCALENDAR
