BEGIN:VCALENDAR
VERSION:2.0
PRODID:-//Gratis-in-Berlin//NONSGML kigkonsult.se iCalcreator 2.14//
METHOD:PUBLISH
X-WR-CALNAME:Gratis-in-Berlin Tip Kalender
X-WR-CALDESC:Erhalte Gratis-in-Berlin Tips in deinem Kalender
BEGIN:VEVENT
UID:20260419T173202UTC-2835VnG2fJ@Gratis-in-Berlin
DTSTAMP:20260419T173202Z
DESCRIPTION:Während der Ausstellung 'Wandel Landschaften' finden kuratorische
  Rundgänge statt\, die vertiefte Einblicke in die Ausstellung und ihre Entst
 ehung geben. Gemeinsam werden ausgewählte Arbeiten\, Räume und Themen näher betr
 achtet und in einen größeren Kontext eingeordnet.Dieses Mal führt euch Nina Sperli
 ng aus dem Team des Spreepark Art Space. Sie ist unter anderem für das Ausstell
 ungsprogramm im Eierhäuschen zuständig.Die Führungen richten sich an alle Interessi
 erten und laden dazu ein\, Fragen zu stellen\, Zusammenhänge zu entdecken un
 d den Spreepark als einen sich wandelnden Ort besser kennenzulernen. Sprac
 he: DeutschOhne AnmeldungKostenfreiDer Zugang ist barrierefreiTreffpunkt: 
 Spreepark Art Space / Eierhäuschen\n\nViel Spass wünscht Gratis-in-Berlin\n\nLink
  zum Tip: \nZu den Gratis-in-Berlin Angeboten: http://www.gratis-in-berlin
 .de\n
DTSTART;VALUE=DATE:20260528
DTEND;VALUE=DATE:20260529
SUMMARY:Kuratorischer Rundgang durch die Ausstellung ?Wandel Landschaften?
END:VEVENT
END:VCALENDAR
