BEGIN:VCALENDAR
VERSION:2.0
PRODID:-//Gratis-in-Berlin//NONSGML kigkonsult.se iCalcreator 2.14//
METHOD:PUBLISH
X-WR-CALNAME:Gratis-in-Berlin Tip Kalender
X-WR-CALDESC:Erhalte Gratis-in-Berlin Tips in deinem Kalender
BEGIN:VEVENT
UID:20260419T155535UTC-0005jUlT92@Gratis-in-Berlin
DTSTAMP:20260419T155535Z
DESCRIPTION:Dieser Rundgang lädt dazu ein\, den Spreepark als künstlerische Landsc
 haft zu entdecken. Inspiriert von der Arbeit der Residenzgruppe Memoria sc
 hauen wir auf die Baustelle nicht als unfertigen Ort\, sondern als Raum vo
 ller Spuren\, Geschichten und möglicher Zukünfte. Wege\, Materialien\, Geräusche und
  Überreste werden zu Teilen einer Ausstellung\, die sich im Gelände selbst ve
 rbirgt.Gemeinsam bewegen wir uns langsam durch den Ort und lernen\, genaue
 r hinzusehen. Mit einem einfachen Rahmen für den Blick wählen die Teilnehmenden i
 hre eigenen Ausschnitte dieser Landschaft und entdecken die ?geheime Ausst
 ellung? im Bestehenden. Die Führung verbindet Wissen über den Spreepark mit Memorias
  künstlerischer Perspektive auf Erinnerung und Wandel ? und öffnet einen neuen\, s
 innlichen Zugang zu einem Ort im Übergang.Heidi Kirk ist Teil des Willkomme
 nsteam des Spreepark Art Space. Acht Jahre hat sie als Guide Besucher*inne
 n aus der ganzen Welt Berlin gezeigt. Jetzt freut sie sich\, Gäst*innen im S
 preepark Art Space willkommen zu heißen und ihre Fragen zu beantworten. Ehe
  sie nach Berlin zog\, hat sie sich selbst an der Gastfreundlichkeit viele
 r Menschen erfreut ? sei es in Frankreich\, wo sie aufwuchs\, in New York\
 , wo sie Vergleichende Literaturwissenschaften studierte\, oder in Shangha
 i\, wo sie Englisch unterrichtete.Anmeldung unter: hello(at)spreepark-arts
 pace.berlinTreffpunkt: Spreepark Art Space / EierhäuschenKostenfreiMaximale 
 Anzahl an Teilnehmer*innen beträgt 20 Personen.Private Führungen für Reisegruppen sind
  leider nicht möglich. Die Führung dauert circa 90 Minuten. Aufgrund der Baumaßnahm
 en auf dem Gelände sind die Führungen nicht barrierefrei.\n\nViel Spass wünscht Gratis
 -in-Berlin\n\nLink zum Tip: https://www.gratis-in-berlin.de/museen/item/20
 77589-suche-nach-der-geheimen-ausstellung\nZu den Gratis-in-Berlin Angebot
 en: http://www.gratis-in-berlin.de\n
DTSTART;VALUE=DATE:20260613
DTEND;VALUE=DATE:20260614
SUMMARY:Suche nach der geheimen Ausstellung
END:VEVENT
END:VCALENDAR
