BEGIN:VCALENDAR
VERSION:2.0
PRODID:-//Gratis-in-Berlin//NONSGML kigkonsult.se iCalcreator 2.14//
METHOD:PUBLISH
X-WR-CALNAME:Gratis-in-Berlin Tip Kalender
X-WR-CALDESC:Erhalte Gratis-in-Berlin Tips in deinem Kalender
BEGIN:VEVENT
UID:20260419T155319UTC-9878ixKpBp@Gratis-in-Berlin
DTSTAMP:20260419T155319Z
DESCRIPTION:Die Installation Desire Lines vom Künstler*innenkollektiv Rent Colle
 ctive in der Ausstellung Wandel Landschaften ist vom Plänterwald und der men
 schlichen Erfahrung des Unterwegsseins im Wald inspiriert. Ausgehend davon
  lädt der Drop-In-Workshop zum eigenen Erkunden und Gestalten ein. Mit Stand
 lupen untersuchen wir Rinden\, Blätter\, Moose und Flechten und entdecken ih
 re kleinen Landschaften. Die Sounds der Installation dienen dabei als zusätz
 liche Inspiration. Anschließend entstehen aus Textilien eigene Landschaftsb
 ilder: Stoffe werden aufgeraut\, geflochten\, frottagiert und geformt\, so
 dass textile Reliefs wachsen ? kleine\, tastbare Landschaften zwischen Wah
 rnehmung\, Material und Vorstellung.Merle Richter ist Künstlerin und Kunstpädagog
 in. Sie untersucht durch genaue Beobachtung und intensive Reflexion Moment
 e der Verstrickungen zwischen Lebewesen\, die in ihrer unmittelbaren Umgeb
 ung entstehen. Ihre Praxis ist geprägt von konzeptionellen\, forschungsbasie
 rten und performativen Ansätzen sowie der Arbeit mit und durch verschiedene 
 Materialien\, die sie als kollaborativen Prozess versteht. Ihre pädagogische
  Arbeit und experimentelle Unterrichtspraxis zielt darauf ab\, Dialog und 
 Diskurs anzuregen und der Frage nachzugehen\, wie ?Material? und Installat
 ionen mit ?Material? dazu beitragen können\, Prozesse der ästhetischen Selbstbi
 ldung anzustoßen.Der Einstieg ist jederzeit möglich.Sprache: Deutsch und Engli
 schOhne AnmeldungKostenfreiDer Zugang ist barrierefrei.\n\nViel Spass wünscht G
 ratis-in-Berlin\n\nLink zum Tip: \nZu den Gratis-in-Berlin Angeboten: http
 ://www.gratis-in-berlin.de\n
DTSTART;VALUE=DATE:20260613
DTEND;VALUE=DATE:20260614
SUMMARY:Textile Landschaftsbilder - Workshop für Kinder und Erwachsene
END:VEVENT
END:VCALENDAR
