BEGIN:VCALENDAR
VERSION:2.0
PRODID:-//Gratis-in-Berlin//NONSGML kigkonsult.se iCalcreator 2.14//
METHOD:PUBLISH
X-WR-CALNAME:Gratis-in-Berlin Tip Kalender
X-WR-CALDESC:Erhalte Gratis-in-Berlin Tips in deinem Kalender
BEGIN:VEVENT
UID:20260421T090935UTC-8152gN3uvL@Gratis-in-Berlin
DTSTAMP:20260421T090935Z
DESCRIPTION:Das Deutsche Technikmuseum Berlin bietet jeden Freitag von 13 b
 is 17 Uhr 30 freien Eintritt für alle. Die Aktion ?Frei-Tag? gilt sowohl für das Hau
 pthaus als auch für das Science Center Spectrum. Es wird empfohlen\, vorab ein 
 kostenloses ?Freier Eintritt am Freitagnachmittag?-Ticket im Online-Shop z
 u buchen\, aber geht vermutlich auch spontan.&nbsp\;\n\nViel Spass wünscht Grat
 is-in-Berlin\n\nLink zum Tip: \nZu den Gratis-in-Berlin Angeboten: http://
 www.gratis-in-berlin.de\n
DTSTART;VALUE=DATE:20260424
DTEND;VALUE=DATE:20260425
SUMMARY:Frei-Tag im Technikmuseum (jeden Freitag)
END:VEVENT
END:VCALENDAR
