BEGIN:VCALENDAR
VERSION:2.0
PRODID:-//Gratis-in-Berlin//NONSGML kigkonsult.se iCalcreator 2.14//
METHOD:PUBLISH
X-WR-CALNAME:Gratis-in-Berlin Tip Kalender
X-WR-CALDESC:Erhalte Gratis-in-Berlin Tips in deinem Kalender
BEGIN:VEVENT
UID:20260419T155425UTC-9357mFe4Uv@Gratis-in-Berlin
DTSTAMP:20260419T155425Z
DESCRIPTION:Die Künstler*innen der Ausstellung Wandel Landschaften haben sich vo
 m umliegenden Plänterwald inspirieren lassen. Sie tauchten mit Carola Fabian
 \, Leiterin der benachbarten Waldschule Plänterwald\, in die Wunderwelt des 
 Waldes ein und entdeckten dabei Formen\, Farben und Strukturen. Diese Erfa
 hrung möchten wir teilen und laden zu einem gemeinsamen Wald-Spaziergang ein:
  Carola Fabian macht die Vielfalt des Plänterwalds erlebbar\, die Schönheit des
  Unscheinbaren sichtbar und lüftet so manches Waldgeheimnis. Doch der Wald ist 
 nicht nur Kulisse\, er ist auch Phantasieanreger für das eigene Tun und so ents
 tehen zum Abschluss kleine Waldkunstwerke.Anmeldung unter: hello(at)spreep
 ark-artspace.berlinSprache: DeutschKostenfreiTreffpunkt: Spreepark Art Spa
 ce / Eierhäuschen\n\nViel Spass wünscht Gratis-in-Berlin\n\nLink zum Tip: https:/
 /www.gratis-in-berlin.de/museen/item/2078205-waldwunder-im-plaenterwald\nZ
 u den Gratis-in-Berlin Angeboten: http://www.gratis-in-berlin.de\n
DTSTART;VALUE=DATE:20260530
DTEND;VALUE=DATE:20260531
SUMMARY:Waldwunder im Plänterwald
END:VEVENT
END:VCALENDAR
