BEGIN:VCALENDAR
VERSION:2.0
PRODID:-//Gratis-in-Berlin//NONSGML kigkonsult.se iCalcreator 2.14//
METHOD:PUBLISH
X-WR-CALNAME:Gratis-in-Berlin Tip Kalender
X-WR-CALDESC:Erhalte Gratis-in-Berlin Tips in deinem Kalender
BEGIN:VEVENT
UID:20260419T155433UTC-1693l0Phws@Gratis-in-Berlin
DTSTAMP:20260419T155433Z
DESCRIPTION:Über das alltägliche Leben in Berliner Zwangsarbeitslagern ist wen
 ig bekannt. Zwei neue Forschungsarbeiten geben wichtige Einblicke. In sein
 er Masterarbeit analysierte Fabian Dietrich das alltägliche Leben in Lagern:
  Wie nutzten die Insass:innen diese Räume und gegen welche Strukturen musste
 n sie sich behaupten? Er wertete vor allem Tagebücher der Betroffenen und Ermit
 tlungsakten der NS-Behörden aus. Friederike Brückner ist Archäologin. Sie hat Überres
 te von Bekleidung untersucht\, die im Bereich von Unterkunftslagern auf de
 m Tempelhofer Feld gefunden wurden. In ihrer Masterarbeit setzt sie diese 
 Funde in Bezug zu historischen Quellen. Begrüßung und Moderation: Dr. Roland Bo
 rchersStlv. Leiter des Dokumentationszentrums NS-Zwangsarbeit  Vorträge:Fabi
 an Dietrich\, Dokumentationszentrum NS-ZwangsarbeitFriederike Brückner\, Stadtm
 useum Berlin\n\nViel Spass wünscht Gratis-in-Berlin\n\nLink zum Tip: \nZu den G
 ratis-in-Berlin Angeboten: http://www.gratis-in-berlin.de\n
DTSTART;VALUE=DATE:20260507
DTEND;VALUE=DATE:20260508
SUMMARY: Alltag in Berliner Zwangsarbeitslagern | Neue Forschungen - Vorträge
  und Diskussion 
END:VEVENT
END:VCALENDAR
