BEGIN:VCALENDAR
VERSION:2.0
PRODID:-//Gratis-in-Berlin//NONSGML kigkonsult.se iCalcreator 2.14//
METHOD:PUBLISH
X-WR-CALNAME:Gratis-in-Berlin Tip Kalender
X-WR-CALDESC:Erhalte Gratis-in-Berlin Tips in deinem Kalender
BEGIN:VEVENT
UID:20260419T185907UTC-4282D0JR33@Gratis-in-Berlin
DTSTAMP:20260419T185907Z
DESCRIPTION:Gustav Landauers Schrift ?Die Abschaffung des Krieges durch die
  Selbstbestimmung des Volkes? ist in Zeiten mannigfaltiger Kriege aktuelle
 r denn je. Zur Würdigung seiner Friedenspolitik zeigt das Anti-Kriegs-Museum di
 e bewegende Ausstellung über das Leben und Wirken Landauers. Vor etwa 100 Jahre
 n wurde das Museum von Ernst Friedrich gegründet\, der Landauer sehr schätzte und
  mit Erich Mühsam befreundet war. Von Landauer bis heute reicht der Traditionss
 trom aktiven Widerstands gegen Militarismus und Krieg.Eröffnet wird die Ausst
 ellung am 18.4. von Tommy Spree\, Enkel von Ernst Friedrich und Wiedergründer d
 es in der NS-Zeit zerstörten Museums. Geöffnet bis 30.06.2026\, täglich zwischen 1
 6 und 20 Uhr. Eintritt frei.Führungen durch die Ausstellung unter besonderer Be
 rücksichtigung der Friedenspolitikjeweils um 17:30 Uhr: Sonnabend\, 13. Juni\, 
 Sonnabend\, 20. Juni\, Sonnabend\, 27. Juni 2026.\n\nViel Spass wünscht Gratis-
 in-Berlin\n\nLink zum Tip: \nZu den Gratis-in-Berlin Angeboten: http://www
 .gratis-in-berlin.de\n
DTSTART;VALUE=DATE:20260613
DTEND;VALUE=DATE:20260614
SUMMARY:Führung durch die Ausstellung ?Die Anarchie ist das Leben der Menschen\,
  die dem Joche entronnen sind.?
END:VEVENT
END:VCALENDAR
