BEGIN:VCALENDAR
VERSION:2.0
PRODID:-//Gratis-in-Berlin//NONSGML kigkonsult.se iCalcreator 2.14//
METHOD:PUBLISH
X-WR-CALNAME:Gratis-in-Berlin Tip Kalender
X-WR-CALDESC:Erhalte Gratis-in-Berlin Tips in deinem Kalender
BEGIN:VEVENT
UID:20260419T125909UTC-1501AZvSeP@Gratis-in-Berlin
DTSTAMP:20260419T125909Z
DESCRIPTION:Poppige Farben auf goldenem Grund neben tiefschwarzer Brautklei
 dung: Donauschwäbische Trachten geben überraschende Einblicke in die einstigen Le
 benswelten von Frauen und Mädchen. Diese Welt war eng\, weil von dörflichen und
  kirchlichen Regeln bestimmt\, aber auch weit\, weil sie die Vielfalt eine
 r multikulturellen Gesellschaft bot.Mit Redebeiträgen von Marion Ackermann (
 Präsidentin Stiftung Preußischer Kulturbesitz)\, Iris Mann (Bürgermeisterin Stadt 
 Ulm)\, Elisabeth Tietmeyer (Direktorin Museum Europäischer Kulturen) und Hen
 rike Hampe (Kuratorin Donauschwäbisches Zentralmuseum Ulm).Musikalische Umra
 hmung: Olena Roj\, Oleksandr Amstibovskyi\n\nViel Spass wünscht Gratis-in-Berli
 n\n\nLink zum Tip: \nZu den Gratis-in-Berlin Angeboten: http://www.gratis-
 in-berlin.de\n
DTSTART;VALUE=DATE:20260423
DTEND;VALUE=DATE:20260424
SUMMARY:Ausstellungseröffnung: Schwerer Stoff. Frauen ? Trachten ? Lebensgesch
 ichten
END:VEVENT
END:VCALENDAR
