BEGIN:VCALENDAR
VERSION:2.0
PRODID:-//Gratis-in-Berlin//NONSGML kigkonsult.se iCalcreator 2.14//
METHOD:PUBLISH
X-WR-CALNAME:Gratis-in-Berlin Tip Kalender
X-WR-CALDESC:Erhalte Gratis-in-Berlin Tips in deinem Kalender
BEGIN:VEVENT
UID:20260420T170645UTC-0689w9lHLz@Gratis-in-Berlin
DTSTAMP:20260420T170645Z
DESCRIPTION:Sprachcafés sind Orte des Zusammenkommens ? für Menschen\, die ihr Deu
 tsch üben und verbessern möchten oder die einfach Lust haben\, andere Berliner*inn
 en kennenzulernen.Im Rahmen der Ausstellung Seeing Words\, Reading Images 
 können Besuchende am Sprachcafé im PalaisPopulaire teilnehmen. Jedes Treffen wi
 dmet sich einem Kunstwerk aus der Schau und bietet die Möglichkeit\, sich zu 
 Themen wie Fremdsprache\, Schrift und geteilte Erfahrungen auszutauschen. 
 Das Treffen wird von Dóra Sági\, Expertin für Deutsch im Mehrsprachigkeitskontext un
 d ästhetische Sprachbildung\, geleitet. Egal welchen Alters\, ob Neu- oder A
 ltberliner*in ? jede*r ist beim Sprachcafé willkommen\, um bei einem Getränk über K
 unst\, Gesellschaft und persönliche Erlebnisse zu diskutieren.\n\nViel Spass 
 wünscht Gratis-in-Berlin\n\nLink zum Tip: https://www.gratis-in-berlin.de/dauer
 brenner/21-museen/2078492-kostenfreies-sprachcafe\nZu den Gratis-in-Berlin
  Angeboten: http://www.gratis-in-berlin.de\n
DTSTART;VALUE=DATE:20260422
DTEND;VALUE=DATE:20260423
SUMMARY:Kostenfreies Sprachcafé
END:VEVENT
END:VCALENDAR
