BEGIN:VCALENDAR
VERSION:2.0
PRODID:-//Gratis-in-Berlin//NONSGML kigkonsult.se iCalcreator 2.14//
METHOD:PUBLISH
X-WR-CALNAME:Gratis-in-Berlin Tip Kalender
X-WR-CALDESC:Erhalte Gratis-in-Berlin Tips in deinem Kalender
BEGIN:VEVENT
UID:20260420T155041UTC-19352oUcWu@Gratis-in-Berlin
DTSTAMP:20260420T155041Z
DESCRIPTION:Während dem international bekannten Gallery Weekend Berlin\, lade
 n wir auf ein musikalisches Erlebnis ein: die Aktivierung der Skulptur ?Pu
 blic Resonator?! Die Künstlerin Nevin Alada? und Musiker*innen werden das Werk 
 bespielen und den einzigartigen Sound für das Publikum hervorbringen.\n\nViel S
 pass wünscht Gratis-in-Berlin\n\nLink zum Tip: \nZu den Gratis-in-Berlin Angebo
 ten: http://www.gratis-in-berlin.de\n
DTSTART;VALUE=DATE:20260502
DTEND;VALUE=DATE:20260503
SUMMARY:Aktivierung Nevin Alada?s Skulptur ?Public Resonator?
END:VEVENT
END:VCALENDAR
