BEGIN:VCALENDAR
VERSION:2.0
PRODID:-//Gratis-in-Berlin//NONSGML kigkonsult.se iCalcreator 2.14//
METHOD:PUBLISH
X-WR-CALNAME:Gratis-in-Berlin Tip Kalender
X-WR-CALDESC:Erhalte Gratis-in-Berlin Tips in deinem Kalender
BEGIN:VEVENT
UID:20260420T155040UTC-9720SWWegP@Gratis-in-Berlin
DTSTAMP:20260420T155040Z
DESCRIPTION:Slavs and Tatars ist ein international renommiertes Künstlerkollekti
 v\, das sich einer Region östlich der ehemaligen Berliner Mauer und westlich 
 der Chinesischen Mauer\, bekannt als Eurasien\, widmet. Ihre Skulptur ?Mol
 la Nasreddin the antimodern? (2021) wird in der Ausstellung Seeing Words\,
  Reading Images gezeigt\, einer Zusammenarbeit der Written Art Collection 
 und der Sammlung Deutsche Bank. Am 3. Mai laden wir ein\, Slavs and Tatars
  in einem Gespräch mit Olga Schubert\, Redakteurin für künstlerische Publikatione
 n\, Kulturwissenschaftlerin und Kunstvermittlerin\, und Marie-Kathrin Krim
 phoff\, Kuratorin der Ausstellung\, zu erleben. Der Artist Talk wird sich 
 um Schrift und Kunst drehen\, dessen Rollen in der heutigen Welt.\n\nViel 
 Spass wünscht Gratis-in-Berlin\n\nLink zum Tip: \nZu den Gratis-in-Berlin Angeb
 oten: http://www.gratis-in-berlin.de\n
DTSTART;VALUE=DATE:20260503
DTEND;VALUE=DATE:20260504
SUMMARY:Artist Talk: Slavs and Tatars
END:VEVENT
END:VCALENDAR
