BEGIN:VCALENDAR
VERSION:2.0
PRODID:-//Gratis-in-Berlin//NONSGML kigkonsult.se iCalcreator 2.14//
METHOD:PUBLISH
X-WR-CALNAME:Gratis-in-Berlin Tip Kalender
X-WR-CALDESC:Erhalte Gratis-in-Berlin Tips in deinem Kalender
BEGIN:VEVENT
UID:20260422T101038UTC-9503TBu1ew@Gratis-in-Berlin
DTSTAMP:20260422T101038Z
DESCRIPTION:Unter dem Titel Seeing Words\, Reading Images sind im PalaisPop
 ulaire derzeit Werke der Sammlung Deutsche Bank in Zusammenarbeit mit der 
 Written Art Collection zu sehen\, einer der bedeutendsten Privatsammlungen
  schriftbasierter Kunst.Zum Internationalen Museumstag stellt ? in poetisc
 her Intervention zur Ausstellung ? Herausgeber Marco Sagurna im PalaisPopu
 laire gemeinsam mit den Dichterinnen Clara Cosima Wolff und Salean A. Maiw
 ald die frisch erschienene Anthologie ?Seht her ? Poesie in Braille? (Kult
 urmaschinen Verlag 2026) vor\, die Gedichte in Schwarzschrift und Brailles
 chrift versammelt. Die Gedichte der 25 vertretenen blinden und sehenden Di
 chter*Innen ? unter anderem Ilma Rakusa\, Volker Sielaff und Rüdiger Stüwe ? sind ni
 cht nur tastend lesbar\, sie nehmen auch inhaltlich Bezug auf Sehen und Hören
 \, auf Unsichtbares und Sichtbares. Entstanden ist die Anthologie in Zusam
 menarbeit mit dem Blinden- und Sehbehindertenverband Niedersachsen und wur
 de ausgezeichnet mit der Verlagsprämie des Freistaats Bayern.Zusätzlich zur Le
 sung bietet der Blinden- und Sehbehindertenverband um 11 Uhr einen Braille
 -Workshop für Kinder und das PalaisPopulaire ab 14 Uhr eine Ausstellungsführung für blind
 e und sehbehinderte Menschen an.Eine gemeinsame Veranstaltung mit dem Pala
 isPopulaire und dem Blinden- und Sehbehindertenverband Niedersachsen e.V.I
 n Kooperation mit dem Haus für Poesie.\n\nViel Spass wünscht Gratis-in-Berlin\n\nLin
 k zum Tip: https://www.gratis-in-berlin.de/museen/item/2078497-seht-her-po
 esie-in-braille\nZu den Gratis-in-Berlin Angeboten: http://www.gratis-in-b
 erlin.de\n
DTSTART;VALUE=DATE:20260517
DTEND;VALUE=DATE:20260518
SUMMARY:Seht her ? Poesie in Braille
END:VEVENT
END:VCALENDAR
