BEGIN:VCALENDAR
VERSION:2.0
PRODID:-//Gratis-in-Berlin//NONSGML kigkonsult.se iCalcreator 2.14//
METHOD:PUBLISH
X-WR-CALNAME:Gratis-in-Berlin Tip Kalender
X-WR-CALDESC:Erhalte Gratis-in-Berlin Tips in deinem Kalender
BEGIN:VEVENT
UID:20260422T121100UTC-1576cRoTUh@Gratis-in-Berlin
DTSTAMP:20260422T121100Z
DESCRIPTION:Zusammen als Gruppe von Frauen besuchen wir die Ausstellung Car
 bon Culture im Technikmuseum. Wir lernen dort über Kohle\, Öl und Gas. Unser All
 tag ist davon abhängig. Das ist ein Problem für uns\, da diese Rohstoffe nicht un
 endlich verfügbar sind und die Klimakrise verschlimmern.Wir tauschen uns aus über Um
 welt\, den Abbau von Kohle und wie wir die Ausstellung wahrnehmen. Teilnah
 me:Der Besuch ist kostenfrei und ohne Anmeldung.Wir treffen uns am Eingang
  des Technikmuseums drinnen. Wenn du uns nicht gleich findest oder später ko
 mmst\, ruf gern an unter: 0157 58151409.Bitte reserviere dir dein eigenes 
 Ticket kostenlos auf der Website\, falls du später kommst. Du kannst ?Freier
  Eintritt am Freitagnachmittag? auswählen. Der Besuch richtet sich an Frauen
  aus allen Kulturen. Du lernst Deutsch oder willst du dein Deutsch verbess
 ern?Dann bist du hier genau richtig! Bei uns kannst du Deutsch sprechen un
 d in entspannter Atmosphäre üben. Du sprichst Deutsch als Mutter- oder Zweitsprac
 he?Unsere Deutschlernenden freuen sich über Gespräche mit dir. Durch den direkten
  Austausch können sie ihre Sprachkenntnisse praxisnah verbessern. Wir tausche
 n uns über Umwelt-\, Klima- und Naturschutz aus und lernen neue Leute und Orte 
 kennen.Der Besuch findet im Rahmen des Projekts ?Klimaschutz integriert ? 
 Frauen für eine bessere Umwelt? statt.Das Projekt Klimaschutz integriert ? Viel
 falt für eine bessere Umwelt wird gefördert durch das Bundesministerium des Innern
 .\n\nViel Spass wünscht Gratis-in-Berlin\n\nLink zum Tip: \nZu den Gratis-in-Be
 rlin Angeboten: http://www.gratis-in-berlin.de\n
DTSTART;VALUE=DATE:20260508
DTEND;VALUE=DATE:20260509
SUMMARY:'Carbon Culture' Ausstellung im Technikmuseum - Zusammen als Frauen
 gruppe
END:VEVENT
END:VCALENDAR
