BEGIN:VCALENDAR
VERSION:2.0
PRODID:-//Gratis-in-Berlin//NONSGML kigkonsult.se iCalcreator 2.14//
METHOD:PUBLISH
X-WR-CALNAME:Gratis-in-Berlin Tip Kalender
X-WR-CALDESC:Erhalte Gratis-in-Berlin Tips in deinem Kalender
BEGIN:VEVENT
UID:20260425T134135UTC-0879usvDtV@Gratis-in-Berlin
DTSTAMP:20260425T134135Z
DESCRIPTION:Für Weihnachten 2012 in Berlin bietet die Website 'Musik in Kirchen'
  viele Kirchenkonzerte für alle moglichen Musikrichtungen (Klassik\, Jazz\, Gos
 pel\, Orgelmusik\, Oratorien\, ...)\, einige davon kostenlos.\n\nViel Spas
 s wünscht Gratis-in-Berlin\n\nLink zum Tip: \nZu den Gratis-in-Berlin Angeboten
 : http://www.gratis-in-berlin.de\n
DTSTART;VALUE=DATE:20121224
DTEND;VALUE=DATE:20121227
SUMMARY:Weihnachtskonzerte 2012: Klassik\, Jazz\, Gospel\, Kirchenkonzerte\
 , ... 
END:VEVENT
END:VCALENDAR
