BEGIN:VCALENDAR
VERSION:2.0
PRODID:-//Gratis-in-Berlin//NONSGML kigkonsult.se iCalcreator 2.14//
METHOD:PUBLISH
X-WR-CALNAME:Gratis-in-Berlin Tip Kalender
X-WR-CALDESC:Erhalte Gratis-in-Berlin Tips in deinem Kalender
BEGIN:VEVENT
UID:20260425T151728UTC-4037tPSubg@Gratis-in-Berlin
DTSTAMP:20260425T151728Z
DESCRIPTION:Für Silvesterkonzerte und Neujahrskonzerte zum Jahreswechsel in Berl
 in listet die Seite 'Musik in Kirchen' diverse Kirchenkonzerte für alle moglich
 en Musikrichtungen (Klassik\, Jazz\, Gospel\, Orgelmusik\, Oratorien\, ...
 )\, einige davon kostenlos. Einfach nach Zeitraum\, Ort und Genres suchen.
  Guten Rutsch!\n\nViel Spass wünscht Gratis-in-Berlin\n\nLink zum Tip: \nZu den
  Gratis-in-Berlin Angeboten: http://www.gratis-in-berlin.de\n
DTSTART;VALUE=DATE:20121231
DTEND;VALUE=DATE:20130102
SUMMARY:Silvesterkonzerte und Neujahrskonzerte 2012/2013
END:VEVENT
END:VCALENDAR
