BEGIN:VCALENDAR
VERSION:2.0
PRODID:-//Gratis-in-Berlin//NONSGML kigkonsult.se iCalcreator 2.14//
METHOD:PUBLISH
X-WR-CALNAME:Gratis-in-Berlin Tip Kalender
X-WR-CALDESC:Erhalte Gratis-in-Berlin Tips in deinem Kalender
BEGIN:VEVENT
UID:20260425T134134UTC-8708pPCVm9@Gratis-in-Berlin
DTSTAMP:20260425T134134Z
DESCRIPTION:Für alle\, die zwischen Weihnachten und Silvester in Berlin verweile
 n: Die stadtbekannte StraSsenmusikerin und Allround-Künstlerin Storm Berlin und
  der junge Musikstudent Mr. Lembke geben wieder ein Konzert in den Raumen 
 des Berliner Büchertisches!  Storm Berlin hat unter anderem mit ihrer Band bei 
 Andy WarholA's letzter Ausstellung beim ICA (Institute of Contemporary Art
 s) gespielt und war Schauspielerin bei einer Fernsehproduktion von Pablo N
 erudas -Ode to the Sea-\, Mr. Lembke ist ein preisgekronter Erasmus-Stipen
 diat. Zusammen bringen sie unsere Bücherregale mit groovigen Blues- und Jazzson
 gs mit Klavier\, Gitarre und Gesang zum Schwingen.  Kommt vorbei\, warmt e
 uch mit toller Musik und heiSser Suppe auf und vergesst den kalten Winter 
 für ein paar Augenblicke! Beginn: 19:30\n\nViel Spass wünscht Gratis-in-Berlin\n\nLi
 nk zum Tip: \nZu den Gratis-in-Berlin Angeboten: http://www.gratis-in-berl
 in.de\n
DTSTART;VALUE=DATE:20121229
DTEND;VALUE=DATE:20121230
SUMMARY:Soup Songs: Tolle Musik und heiSse Suppe
END:VEVENT
END:VCALENDAR
