BEGIN:VCALENDAR
VERSION:2.0
PRODID:-//Gratis-in-Berlin//NONSGML kigkonsult.se iCalcreator 2.14//
METHOD:PUBLISH
X-WR-CALNAME:Gratis-in-Berlin Tip Kalender
X-WR-CALDESC:Erhalte Gratis-in-Berlin Tips in deinem Kalender
BEGIN:VEVENT
UID:20260421T133751UTC-4552b1UIKV@Gratis-in-Berlin
DTSTAMP:20260421T133751Z
DESCRIPTION:Auch für Pfingstkonzerte in Berlin finden sich auf der hervorragende
 n MusikinKirchen-Website\, - inzwischen:cvkulturinkirchen.info - viele gut
 e Tips. Für einige der gelisteten Konzert-Veranstaltungen gilt: Eintritt frei. 
 Stilrichtungen wie Chormusik\, Gospel/Pop\, Blasermusik\, Kammermusik\, Ne
 ue Musik/Avantgarde lassen sich bequem filtern und anzeigen.Und dann gibts
  natürlich auch die&nbsp\;Pfingstkonzerte im Carillon (Fettschrift = klickbarer
  Link)\n\nViel Spass wünscht Gratis-in-Berlin\n\nLink zum Tip: \nZu den Gratis-
 in-Berlin Angeboten: http://www.gratis-in-berlin.de\n
DTSTART;VALUE=DATE:20260524
DTEND;VALUE=DATE:20260526
SUMMARY:Pfingstkonzerte (Klassik\, Gospel\, Pop\, Chormusik\, ...)
END:VEVENT
END:VCALENDAR
