BEGIN:VCALENDAR
VERSION:2.0
PRODID:-//Gratis-in-Berlin//NONSGML kigkonsult.se iCalcreator 2.14//
METHOD:PUBLISH
X-WR-CALNAME:Gratis-in-Berlin Tip Kalender
X-WR-CALDESC:Erhalte Gratis-in-Berlin Tips in deinem Kalender
BEGIN:VEVENT
UID:20260422T025730UTC-2596U5Br1w@Gratis-in-Berlin
DTSTAMP:20260422T025730Z
DESCRIPTION:2001 unterschrieb Declan Galbraith seinen ersten Plattenvertrag
  mit EMI und veröffentlichte im zarten Alter von erst zehn Jahren sein Debütalbum 
 'Declan'.Declan wird sich 2014 nun dem Aufnehmen und Performen seiner neue
 n Musik widmen und plant\, dieses Jahr viele kleine intime Konzerte überall in 
 Europa zu spielen.Beeinflusst und inspiriert wurde Declan von vielen Künstlern\
 , aber als großer Liebhaber von Folk und Rock Musik\, schwärmt er für die Musik vo
 n so unterschiedlichen Künstlern wie Simon &amp\; Garfunkel\, Pink Floyd\, Flee
 twood Mac\, Cat Stevens\, Carole King\, Christy Moore\, Fairpoint Conventi
 on\, Dire Straits und Deep Purple\, um nur ein paar zu nennen. Wenn man al
 l diese Einflüsse zusammenwirft und vermischt\, kommt man vielleicht irgendwo i
 n die Nähe seines Sounds.Weitere Infos unter www.declan-official.com\n\nViel
  Spass wünscht Gratis-in-Berlin\n\nLink zum Tip: https://www.gratis-in-berlin.d
 e/musik/item/2014724-konzert-rock-folk-declan-galbraith\nZu den Gratis-in-
 Berlin Angeboten: http://www.gratis-in-berlin.de\n
DTSTART;VALUE=DATE:20140411
DTEND;VALUE=DATE:20140412
SUMMARY:Konzert (Rock/Folk): Declan Galbraith im Café Tasso
END:VEVENT
END:VCALENDAR
