BEGIN:VCALENDAR
VERSION:2.0
PRODID:-//Gratis-in-Berlin//NONSGML kigkonsult.se iCalcreator 2.14//
METHOD:PUBLISH
X-WR-CALNAME:Gratis-in-Berlin Tip Kalender
X-WR-CALDESC:Erhalte Gratis-in-Berlin Tips in deinem Kalender
BEGIN:VEVENT
UID:20260422T150441UTC-25269RJ63o@Gratis-in-Berlin
DTSTAMP:20260422T150441Z
DESCRIPTION:Europas größtes Glockenspiel lädt an Himmelfahrt zu Konzerten. Die K
 onzerte finden um 15 Uhr im Park (Tiergarten) und bei jedem Wetter statt. 
 Eintritt frei. Choräle von Bach und Neumark\, Frühlings- und Maienlieder von Jurm
 ann\, Mendelssohn\, Morley\, Schubert\, Schumann und Zelter und Carillonwe
 rke von Allard\, de Klerk und Knaifel. Es spielt Jeffrey Bossin\, Berlin.
 \n\nViel Spass wünscht Gratis-in-Berlin\n\nLink zum Tip: \nZu den Gratis-in-Ber
 lin Angeboten: http://www.gratis-in-berlin.de\n
DTSTART;VALUE=DATE:20170525
DTEND;VALUE=DATE:20170526
SUMMARY:Konzerte im Carillon (Europas wohl größtes Glockenspiel) 
END:VEVENT
END:VCALENDAR
