BEGIN:VCALENDAR
VERSION:2.0
PRODID:-//Gratis-in-Berlin//NONSGML kigkonsult.se iCalcreator 2.14//
METHOD:PUBLISH
X-WR-CALNAME:Gratis-in-Berlin Tip Kalender
X-WR-CALDESC:Erhalte Gratis-in-Berlin Tips in deinem Kalender
BEGIN:VEVENT
UID:20260425T115850UTC-44551ir9Ms@Gratis-in-Berlin
DTSTAMP:20260425T115850Z
DESCRIPTION:Live\, umsonst und draußen beim radioeins Parkfest am Gleisdreie
 ck:Jörg Thadeusz begrüßt Benjamin Lebert und Idil Baydar (ab 19 Uhr)Rainbirds: Son
 gs wie 'Blueprint' im neuen Arrangement (ab 19 Uhr 30)Anna F.:&nbsp\;Die öste
 rreichische Sängerin spielte schon im Vorprogramm von&nbsp\;Lenny Kravitz (a
 b 20 Uhr 30)Vom 21. bis 31. August gibts auf dem Hauptplatz im Park am Gle
 isdreieck (Ostteil\, Eingang Hornstraße) 10 Tage lang Livesendungen\, Konze
 rte\, Comedy\, Hörspielkino\, Theater\, Sportstunden und mehr spannende Veran
 staltungen in einer tollen Biergarten-Atmosphäre.\n\nViel Spass wünscht Gratis-in
 -Berlin\n\nLink zum Tip: \nZu den Gratis-in-Berlin Angeboten: http://www.g
 ratis-in-berlin.de\n
DTSTART;VALUE=DATE:20140826
DTEND;VALUE=DATE:20140827
SUMMARY:Parkfest Gleisdreieck: Rainbirds\, Anna F.\, Benjamin Lebert u.a.
END:VEVENT
END:VCALENDAR
