BEGIN:VCALENDAR
VERSION:2.0
PRODID:-//Gratis-in-Berlin//NONSGML kigkonsult.se iCalcreator 2.14//
METHOD:PUBLISH
X-WR-CALNAME:Gratis-in-Berlin Tip Kalender
X-WR-CALDESC:Erhalte Gratis-in-Berlin Tips in deinem Kalender
BEGIN:VEVENT
UID:20260425T021344UTC-2641hsKVm1@Gratis-in-Berlin
DTSTAMP:20260425T021344Z
DESCRIPTION:Live\, umsonst und draußen beim radioeins Parkfest am Gleisdreie
 ck:Ab 19 Uhr Poetry-Slam-Star Sebastian Lehmann\, Kabarettist und Musiker 
 Tilman Birr sowie die irische Songwriterin Wallis BirdAb 20 Uhr 30 Rock?n?
 Roll von der dänischen Band GoGo BerlinVom 21. bis 31. August gibts auf dem 
 Hauptplatz im Park am Gleisdreieck (Ostteil\, Eingang Hornstraße) 10 Tage l
 ang Livesendungen\, Konzerte\, Comedy\, Hörspielkino\, Theater\, Sportstunden
  und mehr spannende Veranstaltungen in einer tollen Biergarten-Atmosphäre.\n
 \nViel Spass wünscht Gratis-in-Berlin\n\nLink zum Tip: \nZu den Gratis-in-Berli
 n Angeboten: http://www.gratis-in-berlin.de\n
DTSTART;VALUE=DATE:20140828
DTEND;VALUE=DATE:20140829
SUMMARY:Parkfest Gleisdreieck: Tilman Birr\, Wallis Bird\, GoGo Berlin
END:VEVENT
END:VCALENDAR
