BEGIN:VCALENDAR
VERSION:2.0
PRODID:-//Gratis-in-Berlin//NONSGML kigkonsult.se iCalcreator 2.14//
METHOD:PUBLISH
X-WR-CALNAME:Gratis-in-Berlin Tip Kalender
X-WR-CALDESC:Erhalte Gratis-in-Berlin Tips in deinem Kalender
BEGIN:VEVENT
UID:20260423T100401UTC-7376ldIuFe@Gratis-in-Berlin
DTSTAMP:20260423T100401Z
DESCRIPTION:Willkommen zu den KLAVIERMEDITATIONEN - ein Klangraum der Still
 e. Hier kannst Du Dich in den gegenwärtigen Moment fallen lassen und ihn mit
  allen Sinnen auskosten. Bei Tee und Kerzenlicht\, sei es sitzend\, liegen
 d oder tanzend\, kreieren wir gemeinsam einen Kreis der Schönheit\, in dem Mu
 sik\, Musiker und Zuhörer Eins werden. Mein Name ist Ivan und ich improvisier
 e für Dich am Klavier.Eintritt: 19 Uhr.Auf Spende -&nbsp\;Empfohlener Beitrag: 
 7-15?--- ? ---Be warmly invited to the next #PianoPrayers with meditative 
 piano improvisations\, which get you to a very personal journey of multsen
 sional enjoyment and inner silence. Let us share some beautiful time toget
 her and create a space of beauty in oneness.Entrance: 7pmFree entrance: Su
 ggested donation: 7-15?My other sites:www.difymusic.com/sobolewsoundswww.f
 acebook.com/sobolewsounds/\n\nViel Spass wünscht Gratis-in-Berlin\n\nLink zum T
 ip: https://www.gratis-in-berlin.de/neuetipps/item/2028882-klavier-meditat
 ionen\nZu den Gratis-in-Berlin Angeboten: http://www.gratis-in-berlin.de\n
DTSTART;VALUE=DATE:20161125
DTEND;VALUE=DATE:20161126
SUMMARY:Klaviermeditationen - #PianoPrayers
END:VEVENT
END:VCALENDAR
