BEGIN:VCALENDAR
VERSION:2.0
PRODID:-//Gratis-in-Berlin//NONSGML kigkonsult.se iCalcreator 2.14//
METHOD:PUBLISH
X-WR-CALNAME:Gratis-in-Berlin Tip Kalender
X-WR-CALDESC:Erhalte Gratis-in-Berlin Tips in deinem Kalender
BEGIN:VEVENT
UID:20260420T143246UTC-1784ZmgGEZ@Gratis-in-Berlin
DTSTAMP:20260420T143246Z
DESCRIPTION:Der Sänger der Band Zapryan\, Lubo Indjov\, hat ein Beethoven - L
 eonard Cohen mashup aufgenommen. Der Song heißt 'A Hallelujah Für Elise' und wer
  schon immer mal im Zeitraffer mit dem 100er Bus durch das weihnachtliche 
 Berlin fahren wollte wird das Video sehr mögen!\n\nViel Spass wünscht Gratis-in-Be
 rlin\n\nLink zum Tip: \nZu den Gratis-in-Berlin Angeboten: http://www.grat
 is-in-berlin.de\n
DTSTART;VALUE=DATE:20231120
DTEND;VALUE=DATE:20231121
SUMMARY:Tolles Musikvideo (  Beethoven - Leonard Cohen mashup) der Band Zap
 ryan mit Stadtrundfahrt durch Berlin
END:VEVENT
END:VCALENDAR
