BEGIN:VCALENDAR
VERSION:2.0
PRODID:-//Gratis-in-Berlin//NONSGML kigkonsult.se iCalcreator 2.14//
METHOD:PUBLISH
X-WR-CALNAME:Gratis-in-Berlin Tip Kalender
X-WR-CALDESC:Erhalte Gratis-in-Berlin Tips in deinem Kalender
BEGIN:VEVENT
UID:20260422T144939UTC-3262vIUbiz@Gratis-in-Berlin
DTSTAMP:20260422T144939Z
DESCRIPTION:Zum ersten Mal live in BerlinDie Band Pepperella ist eine Homma
 ge an Alucita Pepperella\, geboren 1953 in einem kleinen Bergdorf nördlich vo
 n Neapel.Den ersten Jazz hört sie in Paris\, wo sie Liebe verkauft. Und dann 
 in New York\, wo sie sich Liebe ersehnt. Weil ihre Seele dort frei fliegen
  darf\, zieht es sie im Scheinwerferlicht der Großstadt auf die Bühnen des Viert
 els.Nach Aufgang der Sonne starrt sie auf die Blumenmustertapete ihres App
 artements. Mit Jazz im Ohr schafft sie Pop und sehnt sich doch nach dem Ra
 uschen der Zitronenbäume im Meereswind.Alucitas Seele schwebt bis heute in i
 hren Songs. Pepperella spielt sie. Dieses Mal in akustischer BesetzungDas 
 Konzert beginnt 20.00 Uhr im Periplaneta Literaturcafé\, Bornholmer Straße 81
 a\, Berlin-Prenzlauer Berg.\n\nViel Spass wünscht Gratis-in-Berlin\n\nLink zum 
 Tip: https://www.gratis-in-berlin.de/kalender/item/2030805-konzert-peppere
 lla-bei-periplaneta\nZu den Gratis-in-Berlin Angeboten: http://www.gratis-
 in-berlin.de\n
DTSTART;VALUE=DATE:20170525
DTEND;VALUE=DATE:20170526
SUMMARY:Konzert: Pepperella bei Periplaneta
END:VEVENT
END:VCALENDAR
