BEGIN:VCALENDAR
VERSION:2.0
PRODID:-//Gratis-in-Berlin//NONSGML kigkonsult.se iCalcreator 2.14//
METHOD:PUBLISH
X-WR-CALNAME:Gratis-in-Berlin Tip Kalender
X-WR-CALDESC:Erhalte Gratis-in-Berlin Tips in deinem Kalender
BEGIN:VEVENT
UID:20260422T133621UTC-202278SdLk@Gratis-in-Berlin
DTSTAMP:20260422T133621Z
DESCRIPTION:Besuchen Sie die Bar BARt am Diensatag den 18.05.2017 und genie
 ßen Sie ab 20 Uhr bei leckeren Cocktails mit der Künstlerin Jenny Weisgerber.\n
 \nViel Spass wünscht Gratis-in-Berlin\n\nLink zum Tip: \nZu den Gratis-in-Berli
 n Angeboten: http://www.gratis-in-berlin.de\n
DTSTART;VALUE=DATE:20170525
DTEND;VALUE=DATE:20170526
SUMMARY: Live Music mit Jenny Weisgerber am 25 Mai ab 20:00 Uhr
END:VEVENT
END:VCALENDAR
