BEGIN:VCALENDAR
VERSION:2.0
PRODID:-//Gratis-in-Berlin//NONSGML kigkonsult.se iCalcreator 2.14//
METHOD:PUBLISH
X-WR-CALNAME:Gratis-in-Berlin Tip Kalender
X-WR-CALDESC:Erhalte Gratis-in-Berlin Tips in deinem Kalender
BEGIN:VEVENT
UID:20260422T132221UTC-7092uV6Viv@Gratis-in-Berlin
DTSTAMP:20260422T132221Z
DESCRIPTION:Der Erdbeer Club öffnet zum Ersten Mal seine Tore für euch! Passend zum
  Sommer servieren wir kühle Cocktails\, Live Bands und Konzerte. Im Knutschflec
 k am Alex startet der Abend mit einem kühlen Erdbeer-Bier\, fruchtigen Cocktail
 s\, sowie aufregenden Live-Acts.-----------------------------Ort: Knutschf
 leck BerlinDatum: Mittwoch der 07. JuniBeginn: ab 19.00UhrEintritt: für Student
 en\, Schüler\, Azubis und Künstler: FREISpecials: Sei einer der ersten 100 Gäste und b
 ring 4 - Freunde mit - dann erhaltet ihr 10 Erdbeer-ShotsUND zeigst du dei
 nen Studentenausweis oder Schülerausweis bei der Kellnerin vor erhälst du 2 Bier 
 zum Preis von einem !!------------------------------Line-Up:20.15 Uhr Lean
  Bravo21.00 Uhr Johnethen Fuchs------------------------------Electroswing\
 , Rockabilly\, Folk\, Blues\, Rock N Roll\, Pop ? vielfältiger kann ein Mitt
 wochabend gar nicht sein! Mit einem Hauch von Magie und jugendlicher Frisc
 he mischen sich zwei Künstler unter das Berliner Volk und werden euch mitreißen!
 Auf unserer Früchteliste für diesen Abend stehen:Der Singer und Songwriter\, Johneth
 en Fuchs überzeugt durch sein intuitives Gespür für Texte und Melodien. Seine Lieder
  werden von voluminösen Blues-Vocals\, zart-weichen Falsett oder rotzig-rocki
 gen Vocals geprägt.Und Lean Bravo bringt das positive Lebensgefühl und die Lebend
 igkeit seiner Heimat Chile nach Deutschland. Mit seiner Gitarre erobert Le
 an Deutschlands Bühnen und in dieser wilden Party Nacht wird er auch eure Tanzb
 eine und Gemüter erhitzen. Es lohnt sich aufjedenfall bei der Eröffnungsparty dabe
 i zu sein!------------------------------Johnethen Fuchs:Facebook Page: fac
 ebook.com/johnethenfuchsSoundcloud: soundcloud.com/johnethenfuchsOfficial 
 Music Video: https://www.youtube.com/channel/UCFENbEPCYwhkzuTCRQmy8mASpoti
 fy: https://open.spotify.com/artist/5GQUKWIa338O90qZesPUKYLean BravoOffici
 al Website: www.leanbravo.comFacebook Page: www.facebook.com/leanbravomusi
 cOfficial Music Video: https://www.youtube.com/watch?v=7-a8utZHssk\n\nViel
  Spass wünscht Gratis-in-Berlin\n\nLink zum Tip: https://www.gratis-in-berlin.d
 e/kalender/item/2031206-erdbeerclub-opening\nZu den Gratis-in-Berlin Angeb
 oten: http://www.gratis-in-berlin.de\n
DTSTART;VALUE=DATE:20170524
DTEND;VALUE=DATE:20170608
SUMMARY:Erdbeerclub Opening
END:VEVENT
END:VCALENDAR
