BEGIN:VCALENDAR
VERSION:2.0
PRODID:-//Gratis-in-Berlin//NONSGML kigkonsult.se iCalcreator 2.14//
METHOD:PUBLISH
X-WR-CALNAME:Gratis-in-Berlin Tip Kalender
X-WR-CALDESC:Erhalte Gratis-in-Berlin Tips in deinem Kalender
BEGIN:VEVENT
UID:20260422T132416UTC-1708nMOvUG@Gratis-in-Berlin
DTSTAMP:20260422T132416Z
DESCRIPTION:Thursday sounds like ... Stefan Wedamour series of Singer/Songw
 riter concerts continues ...come 'round. great music\, entrance free !Stef
 an Wedam (A)?Vocals\, Guitars &amp\; Cello??Stefan Wedam from Austria is a
  Singer/Songwriter\, who plays the Cello in a percussiv and rocky style\, 
 combining a lot of muscial influences like Funk\, Latin\, Worldmusic Folk 
 &amp\; Blues. He plays guitars too.Come for an extraordinary &amp\; mesmer
 izing perfomance!!!'My life': http://youtu.be/6BSBRyt-ztgNeues Video: 'The
  king without a crown': https://youtu.be/q5a3VpegIyQ'Let your monkey out o
 f your cage':https://www.youtube.com/watch?v=xqMYIjs58pk'Get your face out
  of my head': http://youtu.be/CJlmPckoy-Ahttp://www.stefanwedam.com/Stefan
  Wedam (A)?Vocals\, Guitars &amp\; Cello??Sein musikalisches Portfolio ist
  sehr facettenreich. ?Der österreichische Singer/Songwriter lotet in seiner M
 usik die Grenzbereiche zwischen\, Akustik-Funk\, Latin\, Folk\, Blues\, Po
 p und Cellorock aus.Die ungebremste Spielfreude und die Emotionen des char
 ismatischen Musikers lassen seine Auftritte zu Erlebnissen werden.??Stefan
  ist viel und weit gereist ? sei es durch unterschiedlichste Genres der Mu
 sik\, als auch im geographischen Sinne. Seine Touren führten ihn von Europa über den
  Mittleren Osten nach Südamerika\, wo er knappe 2 Jahre lebte.?Von August 2014 
 bis Juni 2015 tourte er 25000km mit seiner Familie durch Spanien\, Frankre
 ich\, Niederlande\, Deutschland\, Österreich und Australien.Das Reisen mit 
 Familie\, Cello und Gitarre brachte wunderbare Erfahrungen\, spannende Kon
 zerte und Begegnungen und hatte großen Einfluss auf sein neues Album ?King 
 without a crown? welches im April 2016 veröffentlicht wurde.'My life': http:/
 /youtu.be/6BSBRyt-ztgNeues Video: 'The king without a crown': https://yout
 u.be/q5a3VpegIyQ'Let your monkey out of your cage':https://www.youtube.com
 /watch?v=xqMYIjs58pk'Get your face out of my head': http://youtu.be/CJlmPc
 koy-Ahttp://www.stefanwedam.com/Pressestimmen:?... ?Mit Humor\, Charme und
  seiner Leidenschaft zur Musik schafft er es\, das Publikum mit zu reißen..
 .Stefan Wedam ist ein außergewöhnlicher Musiker mit vielen Talenten\, den man 
 sich unbedingt anhören sollte?... (music-news.at 2016)?... ?Cellist Stefan We
 dam mit einer Gänsehaut-Soloeinlage?... ?(Styrian stylez 2011 - Kleine Zeitu
 ng)??... ?Gleich der Solo-Auftakt von 'special guest' Stefan Wedam öffnete mi
 t zwei eigenen Songs ('Mi mundo loco'\, 'My Life') die Ohren und Herzen?..
 . ?(Kleine Zeitung)THURSDAY SOUNDS: - Singer/Songwriter Konzerte im Tik\, 
 ab 21.00 UhrJeden Donnerstag ein Konzert mit einem Singer/Songwriter oder 
 einer kleinen Band.Wer aufmerksam durch Berlin stolpert hat es mitbekommen
 \, die Stadt ist ein Magnet für junge\, verrückte\, talentierte und interessante Mus
 iker. Mit etwas Glück sieht man auf der Warschauer Brücke oder in einem Kneipenhinte
 rzimmer an einem Abend mehr Talent als das ganze Jahr im Fernsehen.Wir wol
 len diesen Musikern eine Bühne geben.THURSDAY SOUNDS:Every Thursday we have a c
 oncert with a Singer/Songwriter or a small band.It's Berlin nowadays: The 
 City has become a magnet to musicians from all over the world or from just
  around the corner. Creatvity and talent is on the street playing for smal
 l change\, on the stages of open mics or maybe in the bar in your street.T
 he Tik has a stage for these musicians\, every thursday.upcoming concertsJ
 une 8th Georg Kostron &amp\; BandJune 15th David Owens\n\nViel Spass wünscht Gr
 atis-in-Berlin\n\nLink zum Tip: https://www.gratis-in-berlin.de/kalender/i
 tem/2031283-thursdaysounds-konzert-stefan-wedam\nZu den Gratis-in-Berlin A
 ngeboten: http://www.gratis-in-berlin.de\n
DTSTART;VALUE=DATE:20170525
DTEND;VALUE=DATE:20170526
SUMMARY:ThursdaySounds Konzert - Stefan Wedam 
END:VEVENT
END:VCALENDAR
