BEGIN:VCALENDAR
VERSION:2.0
PRODID:-//Gratis-in-Berlin//NONSGML kigkonsult.se iCalcreator 2.14//
METHOD:PUBLISH
X-WR-CALNAME:Gratis-in-Berlin Tip Kalender
X-WR-CALDESC:Erhalte Gratis-in-Berlin Tips in deinem Kalender
BEGIN:VEVENT
UID:20260422T145312UTC-9626FC6pI7@Gratis-in-Berlin
DTSTAMP:20260422T145312Z
DESCRIPTION:Live Act: Pan Chimzeehttp://www.panchimzee.com/https://www.yout
 ube.com/watch?v=AaFc2mtR4WYThere's many ways to play an acoustic guitar. T
 he Berlin based artist Pan Chimzee plays several layers of melodies\, form
 s percussive playing to driving rhythms and merges all together to an insi
 ghtful groove live and simultaneously.?By having this remarkable approach 
 to the guitar\, playing and combining lap tapping and fingerstyle guitar t
 echniques\, his performances are extraordinary for both\, the ear and the 
 eye.The self taught guitarist started his musical journey on the streets o
 f Berlin. Playing on the street soon led to invitations to stages in Germa
 ny and abroad. Over the course of two years he has played more than 150 sh
 ows and performed at Festivals such as the Ferrara Buskers in Italy\, the 
 Holy Grail Guitar Show and the East Side Music Days.\n\nViel Spass wünscht Grat
 is-in-Berlin\n\nLink zum Tip: \nZu den Gratis-in-Berlin Angeboten: http://
 www.gratis-in-berlin.de\n
DTSTART;VALUE=DATE:20170525
DTEND;VALUE=DATE:20170526
SUMMARY:[LIVE] Percussive Fingerstyle Guitar - Pan Chimzee in concert
END:VEVENT
END:VCALENDAR
